Workbook

Sheet 記入例（定置）
H2: クロマグロ混獲状況操業野帳（定置漁業） | O2: ▲
M3: 報告年月： | N3: 令和▲年 | Q3: 月
M4: 所属先： | N4: ●● 漁協
M5: 定置網名（法人名）： | N5: ●● ●●
M6: ：
B7: № | C7: 作業日 | E7: 出漁時刻 | H7: クロマグロ混獲状況 | M7: 主な対象魚種 | N7: 対応方法 | O7: 放流作業人数 | P7: 漁具修繕に要した人数 | Q7: その他 | R7: 正 誤
H8: クロマグロ混獲尾数 | I8: うち漁獲 尾数 | J8: うち生存放流尾数 | K8: 放流目廻り ( kg ) | L8: クロマグロ混獲に伴う漁具の破損状況
B9: 1 | C9: 1 | D9: 日 | E9: 7 | F9: ： | G9: 0 | H9: 50 | I9: 48 | J9: 2 | K9: ～20kg | M9: サバ | N9: 例）たも網で放流 | O9: =IF(J9>0,"人数？","0") -> 人数？ | R9: =IF(H9=(I9+J9),"◯","×") -> ◯
B10: 2 | C10: 3 | D10: 日 | E10: 7 | F10: ： | G10: 10 | H10: 46 | I10: 15 | J10: 21 | K10: 30～50kg | M10: ブリ | N10: 例）たも網で放流 | O10: 10 | R10: =IF(H10=(I10+J10),"◯","×") -> ×
B11: 3 | C11: 5 | D11: 日 | E11: 7 | F11: ： | G11: 0 | H11: 150 | I11: 1 | J11: 148 | K11: 5～10kg | M11: サバ | N11: 例）たも網で放流 | O11: 10 | R11: =IF(H11=(I11+J11),"◯","×") -> ×
B12: 4 | C12: 7 | D12: 日 | E12: 7 | F12: ： | G12: 5 | H12: 36 | I12: 6 | J12: 30 | K12: ～30kg | M12: サバ | N12: 例）たも網で放流 | O12: 10 | R12: =IF(H12=(I12+J12),"◯","×") -> ◯
B13: 5 | C13: 10 | D13: 日 | E13: 操業なし | O13: =IF(J13>0,"人数？","0") -> 0 | R13: =IF(H13=(I13+J13),"◯","×") -> ◯
B14: 6 | C14: 11 | D14: 日 | E14: 操業なし | O14: =IF(J14>0,"人数？","0") -> 0 | R14: =IF(H14=(I14+J14),"◯","×") -> ◯
B15: 7 | C15: 12 | D15: 日 | E15: 7 | F15: ： | G15: 0 | H15: 55 | I15: 54 | J15: 1 | K15: 200kg | M15: ブリ | N15: 例）たも網で放流 | O15: 8 | R15: =IF(H15=(I15+J15),"◯","×") -> ◯
B16: 8 | C16: 13 | D16: 日 | E16: 6 | F16: ： | G16: 45 | H16: 100 | I16: 0 | J16: 100 | K16: 50～100kg | L16: 大量入網により破網 ※別紙参照 | M16: サバ | N16: 例）網越し中止 | O16: 10 | P16: 10 | R16: =IF(H16=(I16+J16),"◯","×") -> ◯
B17: 9 | C17: 14 | D17: 日 | E17: 操業中止 | O17: =IF(J17>0,"人数？","0") -> 0 | R17: =IF(H17=(I17+J17),"◯","×") -> ◯
B18: 10 | C18: 15 | D18: 日 | E18: 操業中止 | O18: =IF(J18>0,"人数？","0") -> 0 | R18: =IF(H18=(I18+J18),"◯","×") -> ◯
B19: 11 | C19: 16 | D19: 日 | E19: 操業なし | O19: =IF(J19>0,"人数？","0") -> 0 | R19: =IF(H19=(I19+J19),"◯","×") -> ◯
B20: 12 | C20: 17 | D20: 日 | E20: 7 | F20: ： | G20: 0 | H20: 21 | I20: 15 | J20: 6 | K20: ～50kg | M20: ブリ | O20: =IF(J20>0,"人数？","0") -> 人数？ | R20: =IF(H20=(I20+J20),"◯","×") -> ◯
B21: 13 | C21: 18 | D21: 日 | E21: 7 | F21: ： | G21: 0 | H21: 10 | I21: 0 | J21: 10 | K21: ～30kg | M21: ブリ | N21: 例）たも網で放流 | O21: 10 | R21: =IF(H21=(I21+J21),"◯","×") -> ◯
B22: 14 | C22: 19 | D22: 日 | E22: 7 | F22: ： | G22: 0 | H22: 10 | I22: 10 | J22: 0 | K22: ー | M22: ブリ | N22: ー | O22: =IF(J22>0,"人数？","0") -> 0 | R22: =IF(H22=(I22+J22),"◯","×") -> ◯
B23: 15 | C23: 20 | D23: 日 | E23: 7 | F23: ： | G23: 0 | H23: 10 | I23: 5 | J23: 4 | K23: ～30kg | M23: ブリ | N23: 例）たも網で放流 | O23: 9 | Q23: 自家消費（１尾） | R23: =IF(H23=(I23+J23),"◯","×") -> ×
B24: 16 | C24: 21 | D24: 日 | E24: 操業なし | O24: =IF(J24>0,"人数？","0") -> 0 | R24: =IF(H24=(I24+J24),"◯","×") -> ◯
B25: 17 | C25: 22 | D25: 日 | E25: 操業なし | O25: =IF(J25>0,"人数？","0") -> 0 | R25: =IF(H25=(I25+J25),"◯","×") -> ◯
B26: 18 | C26: 23 | D26: 日 | E26: 7 | F26: ： | G26: 0 | H26: 10 | I26: 5 | J26: 5 | K26: ～30kg | M26: ブリ・サバ | N26: 例）たも網で放流 | O26: 9 | R26: =IF(H26=(I26+J26),"◯","×") -> ◯
B27: 19 | C27: 27 | D27: 日 | E27: 操業なし | O27: =IF(J27>0,"人数？","0") -> 0 | R27: =IF(H27=(I27+J27),"◯","×") -> ◯
B28: 20 | C28: 28 | D28: 日 | E28: 操業なし | O28: =IF(J28>0,"人数？","0") -> 0 | R28: =IF(H28=(I28+J28),"◯","×") -> ◯
B29: 21 | C29: 29 | D29: 日 | E29: 7 | F29: ： | G29: 0 | H29: 10 | I29: 5 | J29: 5 | K29: ～30kg | M29: ブリ | N29: 例）たも網で放流 | O29: 8 | R29: =IF(H29=(I29+J29),"◯","×") -> ◯
B30: 22 | C30: 30 | D30: 日 | E30: 7 | F30: ： | G30: 0 | H30: 24 | I30: 5 | J30: 19 | K30: ～30kg | M30: ブリ | N30: 例）たも網で放流 | O30: 10 | R30: =IF(H30=(I30+J30),"◯","×") -> ◯
B31: 23 | D31: 日 | F31: ： | O31: =IF(J31>0,"人数？","0") -> 0 | R31: =IF(H31=(I31+J31),"◯","×") -> ◯
B32: 24 | D32: 日 | F32: ： | O32: =IF(J32>0,"人数？","0") -> 0 | R32: =IF(H32=(I32+J32),"◯","×") -> ◯
B33: 25 | D33: 日 | F33: ： | O33: =IF(J33>0,"人数？","0") -> 0 | R33: =IF(H33=(I33+J33),"◯","×") -> ◯
B34: 26 | D34: 日 | F34: ： | O34: =IF(J34>0,"人数？","0") -> 0 | R34: =IF(H34=(I34+J34),"◯","×") -> ◯
B35: 27 | D35: 日 | F35: ： | O35: =IF(J35>0,"人数？","0") -> 0 | R35: =IF(H35=(I35+J35),"◯","×") -> ◯
B36: 28 | D36: 日 | F36: ： | O36: =IF(J36>0,"人数？","0") -> 0 | R36: =IF(H36=(I36+J36),"◯","×") -> ◯
B37: 29 | D37: 日 | F37: ： | O37: =IF(J37>0,"人数？","0") -> 0 | R37: =IF(H37=(I37+J37),"◯","×") -> ◯
B38: 30 | D38: 日 | F38: ： | O38: =IF(J38>0,"人数？","0") -> 0 | R38: =IF(H38=(I38+J38),"◯","×") -> ◯
B39: 31 | D39: 日 | F39: ： | O39: =IF(J39>0,"人数？","0") -> 0 | R39: =IF(H39=(I39+J39),"◯","×") -> ◯
B40: （注１）クロマグロの混獲の無い場合でも、操業・漁具の修繕等をおこなった場合には管理野帳を記載すること。
B41: （注２）対応方法の欄にはクロマグロの具体的な放流方法を明記すること。
B42: （注３）複数の漁業種類による場合、操業日ごとの漁法を明記すること。
B43: （注４）放流作業に掛かった人数を明記すること。
B44: （注５）放流目回りは、放流したクロマグロに応じた平均目回りを記載すること。
B45: （注６）クロマグロ混獲に伴う漁具の破損状況は、破網した範囲、損傷等した針数・釣糸の長さ等を具体的に記入すること。
B47: 操業 日数 | C47: =COUNTA(C9:C39) -> 22 | H47: =COUNTIF(H9:H39, ">0") -> 13 | I47: (うち混獲あり） | R47: 正誤
H48: =SUM(H9:H39) -> 532 | I48: =SUM(I9:I39) -> 169 | J48: =SUM(J9:J39) -> 351 | M48: 混獲 | N48: ＝ 漁獲 | O48: ＋ | Q48: 放流 ➡ | R48: =IF(H48=(I48+J48),"◯","×") -> ×
H49: 混獲 | I49: 漁獲 | J49: 放流
D50: 平均尾数 | H50: =$H$48/$H$47 -> 40.923077 | J50: =$J$48/$H$47 -> 27 | O50: ※漁具修繕 | P50: =IF(COUNT(P9:P39)>0,"有","") -> 有
H51: 混獲 | J51: 放流 | P51: =SUM(P9:P39) -> 10
H52: （混獲の総尾数÷混獲があった日数） | J52: （放流した総尾数÷混獲があった日数）

Sheet R8.4
B1: ひな型野帳（定置）
H2: クロマグロ混獲状況操業野帳（定置漁業） | O2: 4
M3: 報告年月： | N3: 8 | Q3: 月
M4: 所属先： | N4: ●● 組合
M5: 定置網名（法人名）： | N5: ●● ●●
M6: ：
B7: NO. | C7: 作業日 | E7: 出漁時刻 | H7: クロマグロ混獲状況 | M7: 主な対象魚種 | N7: 対応方法 | O7: 放流作業人数 | P7: 漁具修繕に要した人数 | Q7: その他
H8: クロマグロ混獲尾数 | I8: うち漁獲尾数 | J8: うち生存放流尾数 | K8: 放流目回り (kg/尾) | L8: クロマグロ混獲に伴う漁具破損状況 | R8: 正 誤
B9: 1 | D9: 日 | E9: 7 | F9: ： | G9: 0 | O9: =IF(J9>0,"人数？","0") -> 0 | R9: =IF(H9=(I9+J9),"◯","×") -> ◯
B10: 2 | D10: 日 | F10: ： | O10: =IF(J10>0,"人数？","0") -> 0 | R10: =IF(H10=(I10+J10),"◯","×") -> ◯
B11: 3 | D11: 日 | F11: ： | O11: =IF(J11>0,"人数？","0") -> 0 | R11: =IF(H11=(I11+J11),"◯","×") -> ◯
B12: 4 | D12: 日 | F12: ： | O12: =IF(J12>0,"人数？","0") -> 0 | R12: =IF(H12=(I12+J12),"◯","×") -> ◯
B13: 5 | D13: 日 | F13: ： | O13: =IF(J13>0,"人数？","0") -> 0 | R13: =IF(H13=(I13+J13),"◯","×") -> ◯
B14: 6 | D14: 日 | F14: ： | O14: =IF(J14>0,"人数？","0") -> 0 | R14: =IF(H14=(I14+J14),"◯","×") -> ◯
B15: 7 | D15: 日 | F15: ： | O15: =IF(J15>0,"人数？","0") -> 0 | R15: =IF(H15=(I15+J15),"◯","×") -> ◯
B16: 8 | D16: 日 | F16: ： | O16: =IF(J16>0,"人数？","0") -> 0 | R16: =IF(H16=(I16+J16),"◯","×") -> ◯
B17: 9 | D17: 日 | F17: ： | O17: =IF(J17>0,"人数？","0") -> 0 | R17: =IF(H17=(I17+J17),"◯","×") -> ◯
B18: 10 | D18: 日 | F18: ： | O18: =IF(J18>0,"人数？","0") -> 0 | R18: =IF(H18=(I18+J18),"◯","×") -> ◯
B19: 11 | D19: 日 | F19: ： | O19: =IF(J19>0,"人数？","0") -> 0 | R19: =IF(H19=(I19+J19),"◯","×") -> ◯
B20: 12 | D20: 日 | F20: ： | O20: =IF(J20>0,"人数？","0") -> 0 | R20: =IF(H20=(I20+J20),"◯","×") -> ◯
B21: 13 | D21: 日 | F21: ： | O21: =IF(J21>0,"人数？","0") -> 0 | R21: =IF(H21=(I21+J21),"◯","×") -> ◯
... B39: 31 | D39: 日 | F39: ： | O39: =IF(J39>0,"人数？","0") -> 0 | R39: =IF(H39=(I39+J39),"◯","×") -> ◯
B40: （注１）クロマグロの混獲の無い場合でも、操業・漁具の修繕等をおこなった場合には管理野帳を記載すること。
B41: （注２）対応方法の欄にはクロマグロの具体的な放流方法を明記すること。
B42: （注３）複数の漁業種類による場合、操業日ごとの漁法を明記すること。
B43: （注４）放流作業に掛かった人数を明記すること。
B44: （注５）放流目回りは、放流したクロマグロに応じた平均目回りを記載すること。
B45: （注６）クロマグロ混獲に伴う漁具の破損状況は、破網した範囲、損傷等した針数・釣糸の長さ等を具体的に記入すること。
B47: 操業 日数 | C47: =COUNTA(C9:C39) -> 0 | H47: =COUNTIF(H9:H39, ">0") -> 0 | I47: (うち混獲あり） | R47: 正誤
G48: 合計 | H48: =SUM(H9:H39) -> 0 | I48: =SUM(I9:I39) -> 0 | J48: =SUM(J9:J39) -> 0 | L48: 混獲 | M48: = 漁獲 | N48: ＋ | O48: 放流 | Q48: ➡ | R48: =IF(H48=(I48+J48),"◯","×") -> ◯
H49: 混獲 | I49: 漁獲 | J49: 放流
D50: 平均尾数 | H50: =$H$48/$H$47 -> #DIV/0! | J50: =$J$48/$H$47 -> #DIV/0!
H51: 混獲 | J51: 放流
H52: （混獲の総尾数÷混獲があった日数） | J52: （放流した総尾数÷混獲があった日数）

Sheet R8.5
B1: ひな型野帳（定置）
H2: クロマグロ混獲状況操業野帳（定置漁業） | O2: 5
M3: 報告年月： | N3: 8 | Q3: 月
M4: 所属先： | N4: =+'R8.4'!$N$4 -> ●● 組合
M5: 定置網名（法人名）： | N5: =+'R8.4'!$N$5 -> ●● ●●
M6: ：
B7: NO. | C7: 作業日 | E7: 出漁時刻 | H7: クロマグロ混獲状況 | M7: 主な対象魚種 | N7: 対応方法 | O7: 放流作業人数 | P7: 漁具修繕に要した人数 | Q7: その他
H8: クロマグロ混獲尾数 | I8: うち漁獲尾数 | J8: うち生存放流尾数 | K8: 放流目回り (kg/尾) | L8: クロマグロ混獲に伴う漁具破損状況 | R8: 正 誤
B9: 1 | D9: 日 | E9: 7 | F9: ： | G9: 0 | O9: =IF(J9>0,"人数？","0") -> 0 | R9: =IF(H9=(I9+J9),"◯","×") -> ◯
B10: 2 | D10: 日 | F10: ： | O10: =IF(J10>0,"人数？","0") -> 0 | R10: =IF(H10=(I10+J10),"◯","×") -> ◯
B11: 3 | D11: 日 | F11: ： | O11: =IF(J11>0,"人数？","0") -> 0 | R11: =IF(H11=(I11+J11),"◯","×") -> ◯
B12: 4 | D12: 日 | F12: ： | O12: =IF(J12>0,"人数？","0") -> 0 | R12: =IF(H12=(I12+J12),"◯","×") -> ◯
B13: 5 | D13: 日 | F13: ： | O13: =IF(J13>0,"人数？","0") -> 0 | R13: =IF(H13=(I13+J13),"◯","×") -> ◯
B14: 6 | D14: 日 | F14: ： | O14: =IF(J14>0,"人数？","0") -> 0 | R14: =IF(H14=(I14+J14),"◯","×") -> ◯
B15: 7 | D15: 日 | F15: ： | O15: =IF(J15>0,"人数？","0") -> 0 | R15: =IF(H15=(I15+J15),"◯","×") -> ◯
B16: 8 | D16: 日 | F16: ： | O16: =IF(J16>0,"人数？","0") -> 0 | R16: =IF(H16=(I16+J16),"◯","×") -> ◯
B17: 9 | D17: 日 | F17: ： | O17: =IF(J17>0,"人数？","0") -> 0 | R17: =IF(H17=(I17+J17),"◯","×") -> ◯
B18: 10 | D18: 日 | F18: ： | O18: =IF(J18>0,"人数？","0") -> 0 | R18: =IF(H18=(I18+J18),"◯","×") -> ◯
B19: 11 | D19: 日 | F19: ： | O19: =IF(J19>0,"人数？","0") -> 0 | R19: =IF(H19=(I19+J19),"◯","×") -> ◯
B20: 12 | D20: 日 | F20: ： | O20: =IF(J20>0,"人数？","0") -> 0 | R20: =IF(H20=(I20+J20),"◯","×") -> ◯
B21: 13 | D21: 日 | F21: ： | O21: =IF(J21>0,"人数？","0") -> 0 | R21: =IF(H21=(I21+J21),"◯","×") -> ◯
... B39: 31 | D39: 日 | F39: ： | O39: =IF(J39>0,"人数？","0") -> 0 | R39: =IF(H39=(I39+J39),"◯","×") -> ◯
B40: （注１）クロマグロの混獲の無い場合でも、操業・漁具の修繕等をおこなった場合には管理野帳を記載すること。
B41: （注２）対応方法の欄にはクロマグロの具体的な放流方法を明記すること。
B42: （注３）複数の漁業種類による場合、操業日ごとの漁法を明記すること。
B43: （注４）放流作業に掛かった人数を明記すること。
B44: （注５）放流目回りは、放流したクロマグロに応じた平均目回りを記載すること。
B45: （注６）クロマグロ混獲に伴う漁具の破損状況は、破網した範囲、損傷等した針数・釣糸の長さ等を具体的に記入すること。
B47: 操業 日数 | C47: =COUNTA(C9:C39) -> 0 | H47: =COUNTIF(H9:H39, ">0") -> 0 | I47: (うち混獲あり） | R47: 正誤
G48: 合計 | H48: =SUM(H9:H39) -> 0 | I48: =SUM(I9:I39) -> 0 | J48: =SUM(J9:J39) -> 0 | L48: 混獲 | M48: = 漁獲 | N48: ＋ | O48: 放流 | Q48: ➡ | R48: =IF(H48=(I48+J48),"◯","×") -> ◯
H49: 混獲 | I49: 漁獲 | J49: 放流
D50: 平均尾数 | H50: =$H$48/$H$47 -> #DIV/0! | J50: =$J$48/$H$47 -> #DIV/0!
H51: 混獲 | J51: 放流
H52: （混獲の総尾数÷混獲があった日数） | J52: （放流した総尾数÷混獲があった日数）

Sheet R8.6
B1: ひな型野帳（定置）
H2: クロマグロ混獲状況操業野帳（定置漁業） | O2: 6
M3: 報告年月： | N3: 8 | Q3: 月
M4: 所属先： | N4: =+'R8.4'!$N$4 -> ●● 組合
M5: 定置網名（法人名）： | N5: =+'R8.4'!$N$5 -> ●● ●●
M6: ：
B7: NO. | C7: 作業日 | E7: 出漁時刻 | H7: クロマグロ混獲状況 | M7: 主な対象魚種 | N7: 対応方法 | O7: 放流作業人数 | P7: 漁具修繕に要した人数 | Q7: その他
H8: クロマグロ混獲尾数 | I8: うち漁獲尾数 | J8: うち生存放流尾数 | K8: 放流目回り (kg/尾) | L8: クロマグロ混獲に伴う漁具破損状況 | R8: 正 誤
B9: 1 | D9: 日 | E9: 7 | F9: ： | G9: 0 | O9: =IF(J9>0,"人数？","0") -> 0 | R9: =IF(H9=(I9+J9),"◯","×") -> ◯
B10: 2 | D10: 日 | F10: ： | O10: =IF(J10>0,"人数？","0") -> 0 | R10: =IF(H10=(I10+J10),"◯","×") -> ◯
B11: 3 | D11: 日 | F11: ： | O11: =IF(J11>0,"人数？","0") -> 0 | R11: =IF(H11=(I11+J11),"◯","×") -> ◯
B12: 4 | D12: 日 | F12: ： | O12: =IF(J12>0,"人数？","0") -> 0 | R12: =IF(H12=(I12+J12),"◯","×") -> ◯
B13: 5 | D13: 日 | F13: ： | O13: =IF(J13>0,"人数？","0") -> 0 | R13: =IF(H13=(I13+J13),"◯","×") -> ◯
B14: 6 | D14: 日 | F14: ： | O14: =IF(J14>0,"人数？","0") -> 0 | R14: =IF(H14=(I14+J14),"◯","×") -> ◯
B15: 7 | D15: 日 | F15: ： | O15: =IF(J15>0,"人数？","0") -> 0 | R15: =IF(H15=(I15+J15),"◯","×") -> ◯
B16: 8 | D16: 日 | F16: ： | O16: =IF(J16>0,"人数？","0") -> 0 | R16: =IF(H16=(I16+J16),"◯","×") -> ◯
B17: 9 | D17: 日 | F17: ： | O17: =IF(J17>0,"人数？","0") -> 0 | R17: =IF(H17=(I17+J17),"◯","×") -> ◯
B18: 10 | D18: 日 | F18: ： | O18: =IF(J18>0,"人数？","0") -> 0 | R18: =IF(H18=(I18+J18),"◯","×") -> ◯
B19: 11 | D19: 日 | F19: ： | O19: =IF(J19>0,"人数？","0") -> 0 | R19: =IF(H19=(I19+J19),"◯","×") -> ◯
B20: 12 | D20: 日 | F20: ： | O20: =IF(J20>0,"人数？","0") -> 0 | R20: =IF(H20=(I20+J20),"◯","×") -> ◯
B21: 13 | D21: 日 | F21: ： | O21: =IF(J21>0,"人数？","0") -> 0 | R21: =IF(H21=(I21+J21),"◯","×") -> ◯
... B39: 31 | D39: 日 | F39: ： | O39: =IF(J39>0,"人数？","0") -> 0 | R39: =IF(H39=(I39+J39),"◯","×") -> ◯
B40: （注１）クロマグロの混獲の無い場合でも、操業・漁具の修繕等をおこなった場合には管理野帳を記載すること。
B41: （注２）対応方法の欄にはクロマグロの具体的な放流方法を明記すること。
B42: （注３）複数の漁業種類による場合、操業日ごとの漁法を明記すること。
B43: （注４）放流作業に掛かった人数を明記すること。
B44: （注５）放流目回りは、放流したクロマグロに応じた平均目回りを記載すること。
B45: （注６）クロマグロ混獲に伴う漁具の破損状況は、破網した範囲、損傷等した針数・釣糸の長さ等を具体的に記入すること。
B47: 操業 日数 | C47: =COUNTA(C9:C39) -> 0 | H47: =COUNTIF(H9:H39, ">0") -> 0 | I47: (うち混獲あり） | R47: 正誤
G48: 合計 | H48: =SUM(H9:H39) -> 0 | I48: =SUM(I9:I39) -> 0 | J48: =SUM(J9:J39) -> 0 | L48: 混獲 | M48: = 漁獲 | N48: ＋ | O48: 放流 | Q48: ➡ | R48: =IF(H48=(I48+J48),"◯","×") -> ◯
H49: 混獲 | I49: 漁獲 | J49: 放流
D50: 平均尾数 | H50: =$H$48/$H$47 -> #DIV/0! | J50: =$J$48/$H$47 -> #DIV/0!
H51: 混獲 | J51: 放流
H52: （混獲の総尾数÷混獲があった日数） | J52: （放流した総尾数÷混獲があった日数）

Sheet R8.7
B1: ひな型野帳（定置）
H2: クロマグロ混獲状況操業野帳（定置漁業） | O2: 7
M3: 報告年月： | N3: 8 | Q3: 月
M4: 所属先： | N4: =+'R8.4'!$N$4 -> ●● 組合
M5: 定置網名（法人名）： | N5: =+'R8.4'!$N$5 -> ●● ●●
M6: ：
B7: NO. | C7: 作業日 | E7: 出漁時刻 | H7: クロマグロ混獲状況 | M7: 主な対象魚種 | N7: 対応方法 | O7: 放流作業人数 | P7: 漁具修繕に要した人数 | Q7: その他
H8: クロマグロ混獲尾数 | I8: うち漁獲尾数 | J8: うち生存放流尾数 | K8: 放流目回り (kg/尾) | L8: クロマグロ混獲に伴う漁具破損状況 | R8: 正 誤
B9: 1 | D9: 日 | E9: 7 | F9: ： | G9: 0 | O9: =IF(J9>0,"人数？","0") -> 0 | R9: =IF(H9=(I9+J9),"◯","×") -> ◯
B10: 2 | D10: 日 | F10: ： | O10: =IF(J10>0,"人数？","0") -> 0 | R10: =IF(H10=(I10+J10),"◯","×") -> ◯
B11: 3 | D11: 日 | F11: ： | O11: =IF(J11>0,"人数？","0") -> 0 | R11: =IF(H11=(I11+J11),"◯","×") -> ◯
B12: 4 | D12: 日 | F12: ： | O12: =IF(J12>0,"人数？","0") -> 0 | R12: =IF(H12=(I12+J12),"◯","×") -> ◯
B13: 5 | D13: 日 | F13: ： | O13: =IF(J13>0,"人数？","0") -> 0 | R13: =IF(H13=(I13+J13),"◯","×") -> ◯
B14: 6 | D14: 日 | F14: ： | O14: =IF(J14>0,"人数？","0") -> 0 | R14: =IF(H14=(I14+J14),"◯","×") -> ◯
B15: 7 | D15: 日 | F15: ： | O15: =IF(J15>0,"人数？","0") -> 0 | R15: =IF(H15=(I15+J15),"◯","×") -> ◯
B16: 8 | D16: 日 | F16: ： | O16: =IF(J16>0,"人数？","0") -> 0 | R16: =IF(H16=(I16+J16),"◯","×") -> ◯
B17: 9 | D17: 日 | F17: ： | O17: =IF(J17>0,"人数？","0") -> 0 | R17: =IF(H17=(I17+J17),"◯","×") -> ◯
B18: 10 | D18: 日 | F18: ： | O18: =IF(J18>0,"人数？","0") -> 0 | R18: =IF(H18=(I18+J18),"◯","×") -> ◯
B19: 11 | D19: 日 | F19: ： | O19: =IF(J19>0,"人数？","0") -> 0 | R19: =IF(H19=(I19+J19),"◯","×") -> ◯
B20: 12 | D20: 日 | F20: ： | O20: =IF(J20>0,"人数？","0") -> 0 | R20: =IF(H20=(I20+J20),"◯","×") -> ◯
B21: 13 | D21: 日 | F21: ： | O21: =IF(J21>0,"人数？","0") -> 0 | R21: =IF(H21=(I21+J21),"◯","×") -> ◯
... B39: 31 | D39: 日 | F39: ： | O39: =IF(J39>0,"人数？","0") -> 0 | R39: =IF(H39=(I39+J39),"◯","×") -> ◯
B40: （注１）クロマグロの混獲の無い場合でも、操業・漁具の修繕等をおこなった場合には管理野帳を記載すること。
B41: （注２）対応方法の欄にはクロマグロの具体的な放流方法を明記すること。
B42: （注３）複数の漁業種類による場合、操業日ごとの漁法を明記すること。
B43: （注４）放流作業に掛かった人数を明記すること。
B44: （注５）放流目回りは、放流したクロマグロに応じた平均目回りを記載すること。
B45: （注６）クロマグロ混獲に伴う漁具の破損状況は、破網した範囲、損傷等した針数・釣糸の長さ等を具体的に記入すること。
B47: 操業 日数 | C47: =COUNTA(C9:C39) -> 0 | H47: =COUNTIF(H9:H39, ">0") -> 0 | I47: (うち混獲あり） | R47: 正誤
G48: 合計 | H48: =SUM(H9:H39) -> 0 | I48: =SUM(I9:I39) -> 0 | J48: =SUM(J9:J39) -> 0 | L48: 混獲 | M48: = 漁獲 | N48: ＋ | O48: 放流 | Q48: ➡ | R48: =IF(H48=(I48+J48),"◯","×") -> ◯
H49: 混獲 | I49: 漁獲 | J49: 放流
D50: 平均尾数 | H50: =$H$48/$H$47 -> #DIV/0! | J50: =$J$48/$H$47 -> #DIV/0!
H51: 混獲 | J51: 放流
H52: （混獲の総尾数÷混獲があった日数） | J52: （放流した総尾数÷混獲があった日数）

Sheet R8.8
B1: ひな型野帳（定置）
H2: クロマグロ混獲状況操業野帳（定置漁業） | O2: 8
M3: 報告年月： | N3: 8 | Q3: 月
M4: 所属先： | N4: =+'R8.4'!$N$4 -> ●● 組合
M5: 定置網名（法人名）： | N5: =+'R8.4'!$N$5 -> ●● ●●
M6: ：
B7: NO. | C7: 作業日 | E7: 出漁時刻 | H7: クロマグロ混獲状況 | M7: 主な対象魚種 | N7: 対応方法 | O7: 放流作業人数 | P7: 漁具修繕に要した人数 | Q7: その他
H8: クロマグロ混獲尾数 | I8: うち漁獲尾数 | J8: うち生存放流尾数 | K8: 放流目回り (kg/尾) | L8: クロマグロ混獲に伴う漁具破損状況 | R8: 正 誤
B9: 1 | D9: 日 | E9: 7 | F9: ： | G9: 0 | O9: =IF(J9>0,"人数？","0") -> 0 | R9: =IF(H9=(I9+J9),"◯","×") -> ◯
B10: 2 | D10: 日 | F10: ： | O10: =IF(J10>0,"人数？","0") -> 0 | R10: =IF(H10=(I10+J10),"◯","×") -> ◯
B11: 3 | D11: 日 | F11: ： | O11: =IF(J11>0,"人数？","0") -> 0 | R11: =IF(H11=(I11+J11),"◯","×") -> ◯
B12: 4 | D12: 日 | F12: ： | O12: =IF(J12>0,"人数？","0") -> 0 | R12: =IF(H12=(I12+J12),"◯","×") -> ◯
B13: 5 | D13: 日 | F13: ： | O13: =IF(J13>0,"人数？","0") -> 0 | R13: =IF(H13=(I13+J13),"◯","×") -> ◯
B14: 6 | D14: 日 | F14: ： | O14: =IF(J14>0,"人数？","0") -> 0 | R14: =IF(H14=(I14+J14),"◯","×") -> ◯
B15: 7 | D15: 日 | F15: ： | O15: =IF(J15>0,"人数？","0") -> 0 | R15: =IF(H15=(I15+J15),"◯","×") -> ◯
B16: 8 | D16: 日 | F16: ： | O16: =IF(J16>0,"人数？","0") -> 0 | R16: =IF(H16=(I16+J16),"◯","×") -> ◯
B17: 9 | D17: 日 | F17: ： | O17: =IF(J17>0,"人数？","0") -> 0 | R17: =IF(H17=(I17+J17),"◯","×") -> ◯
B18: 10 | D18: 日 | F18: ： | O18: =IF(J18>0,"人数？","0") -> 0 | R18: =IF(H18=(I18+J18),"◯","×") -> ◯
B19: 11 | D19: 日 | F19: ： | O19: =IF(J19>0,"人数？","0") -> 0 | R19: =IF(H19=(I19+J19),"◯","×") -> ◯
B20: 12 | D20: 日 | F20: ： | O20: =IF(J20>0,"人数？","0") -> 0 | R20: =IF(H20=(I20+J20),"◯","×") -> ◯
B21: 13 | D21: 日 | F21: ： | O21: =IF(J21>0,"人数？","0") -> 0 | R21: =IF(H21=(I21+J21),"◯","×") -> ◯
... B39: 31 | D39: 日 | F39: ： | O39: =IF(J39>0,"人数？","0") -> 0 | R39: =IF(H39=(I39+J39),"◯","×") -> ◯
B40: （注１）クロマグロの混獲の無い場合でも、操業・漁具の修繕等をおこなった場合には管理野帳を記載すること。
B41: （注２）対応方法の欄にはクロマグロの具体的な放流方法を明記すること。
B42: （注３）複数の漁業種類による場合、操業日ごとの漁法を明記すること。
B43: （注４）放流作業に掛かった人数を明記すること。
B44: （注５）放流目回りは、放流したクロマグロに応じた平均目回りを記載すること。
B45: （注６）クロマグロ混獲に伴う漁具の破損状況は、破網した範囲、損傷等した針数・釣糸の長さ等を具体的に記入すること。
B47: 操業 日数 | C47: =COUNTA(C9:C39) -> 0 | H47: =COUNTIF(H9:H39, ">0") -> 0 | I47: (うち混獲あり） | R47: 正誤
G48: 合計 | H48: =SUM(H9:H39) -> 0 | I48: =SUM(I9:I39) -> 0 | J48: =SUM(J9:J39) -> 0 | L48: 混獲 | M48: = 漁獲 | N48: ＋ | O48: 放流 | Q48: ➡ | R48: =IF(H48=(I48+J48),"◯","×") -> ◯
H49: 混獲 | I49: 漁獲 | J49: 放流
D50: 平均尾数 | H50: =$H$48/$H$47 -> #DIV/0! | J50: =$J$48/$H$47 -> #DIV/0!
H51: 混獲 | J51: 放流
H52: （混獲の総尾数÷混獲があった日数） | J52: （放流した総尾数÷混獲があった日数）

Sheet 別紙（破損状況）
B1: 別紙（クロマグロ混獲に伴う漁具の破損状況）
E2: 令和●年度 クロマグロ混獲回避活動支援事業
D3: ●●漁業者グループ
D4: （定置網名／漁船名）
B5: № | C5: 操業 月日 | D5: 漁具の破損状況 ※漁具修繕の作業内容 | E5: 添 付 資 料 ※写真・領収書
B6: 1 | C6: ▲/20 | E6: 有 ・ 無
B7: 2 | E7: 有 ・ 無
B8: 3 | E8: 有 ・ 無
B9: 4 | E9: 有 ・ 無
B10: 5 | E10: 有 ・ 無
B11: 6 | E11: 有 ・ 無
B12: 7 | E12: 有 ・ 無
B13: 8 | E13: 有 ・ 無
B14: 9 | E14: 有 ・ 無
B15: 10 | E15: 有 ・ 無
B16: 11 | E16: 有 ・ 無

Sheet 添付資料（写真）
B1: 添付資料（写真資料） | F1: 令和●年度 クロマグロ混獲回避活動支援事業
D2: ●●漁業者グループ
D3: （定置網名／漁船名）
B4: № | C4: 操業 月日 | D4: 漁具の修繕（前） ※破損状況 | E4: ※漁具の修繕作業を行った場合には 作業の様子（写真）を貼付 | F4: 漁具の修繕（後） ※修繕した結果
B5: 1 | C5: ▲/20 | D5: 写真 （日付入り） | E5: 写真 （日付入り） | F5: 写真 （日付入り）
B6: 2 | D6: 写真 （日付入り） | E6: 写真 （日付入り） | F6: 写真 （日付入り）
B7: 3 | D7: 写真 （日付入り） | E7: 写真 （日付入り） | F7: 写真 （日付入り）
B8: 4 | D8: 写真 （日付入り） | E8: 写真 （日付入り） | F8: 写真 （日付入り）
B9: 5 | D9: 写真 （日付入り） | E9: 写真 （日付入り） | F9: 写真 （日付入り）
B10: 6 | D10: 写真 （日付入り） | E10: 写真 （日付入り） | F10: 写真 （日付入り）
B11: 7 | D11: 写真 （日付入り） | E11: 写真 （日付入り） | F11: 写真 （日付入り）
B12: 8 | D12: 写真 （日付入り） | E12: 写真 （日付入り） | F12: 写真 （日付入り）
B13: 9 | D13: 写真 （日付入り） | E13: 写真 （日付入り） | F13: 写真 （日付入り）
B14: 10 | D14: 写真 （日付入り） | E14: 写真 （日付入り） | F14: 写真 （日付入り）
B15: 11 | D15: 写真 （日付入り） | E15: 写真 （日付入り） | F15: 写真 （日付入り）

Sheet R8.9（漁具修繕追加）
B1: ひな型野帳（定置）
H2: クロマグロ混獲状況操業野帳（定置漁業） | O2: 9
M3: 報告年月： | N3: 8 | Q3: 月
M4: 所属先： | N4: =+'R8.4'!$N$4 -> ●● 組合
M5: 定置網名（法人名）： | N5: =+'R8.4'!$N$5 -> ●● ●●
M6: ：
B7: NO. | C7: 作業日 | E7: 出漁時刻 | H7: クロマグロ混獲状況 | M7: 主な対象魚種 | N7: 対応方法 | O7: 放流作業人数 | P7: 漁具修繕に要した人数 | Q7: その他
H8: クロマグロ混獲尾数 | I8: うち漁獲尾数 | J8: うち生存放流尾数 | K8: 放流目回り (kg/尾) | L8: クロマグロ混獲に伴う漁具破損状況 | R8: 正 誤
B9: 1 | D9: 日 | E9: 7 | F9: ： | G9: 0 | O9: =IF(J9>0,"人数？","0") -> 0 | R9: =IF(H9=(I9+J9),"◯","×") -> ◯
B10: 2 | D10: 日 | F10: ： | O10: =IF(J10>0,"人数？","0") -> 0 | R10: =IF(H10=(I10+J10),"◯","×") -> ◯
B11: 3 | D11: 日 | F11: ： | O11: =IF(J11>0,"人数？","0") -> 0 | R11: =IF(H11=(I11+J11),"◯","×") -> ◯
B12: 4 | D12: 日 | F12: ： | O12: =IF(J12>0,"人数？","0") -> 0 | R12: =IF(H12=(I12+J12),"◯","×") -> ◯
B13: 5 | D13: 日 | F13: ： | O13: =IF(J13>0,"人数？","0") -> 0 | R13: =IF(H13=(I13+J13),"◯","×") -> ◯
B14: 6 | D14: 日 | F14: ： | O14: =IF(J14>0,"人数？","0") -> 0 | R14: =IF(H14=(I14+J14),"◯","×") -> ◯
B15: 7 | D15: 日 | F15: ： | O15: =IF(J15>0,"人数？","0") -> 0 | R15: =IF(H15=(I15+J15),"◯","×") -> ◯
B16: 8 | D16: 日 | F16: ： | O16: =IF(J16>0,"人数？","0") -> 0 | R16: =IF(H16=(I16+J16),"◯","×") -> ◯
B17: 9 | D17: 日 | F17: ： | O17: =IF(J17>0,"人数？","0") -> 0 | R17: =IF(H17=(I17+J17),"◯","×") -> ◯
B18: 10 | D18: 日 | F18: ： | O18: =IF(J18>0,"人数？","0") -> 0 | R18: =IF(H18=(I18+J18),"◯","×") -> ◯
B19: 11 | D19: 日 | F19: ： | O19: =IF(J19>0,"人数？","0") -> 0 | R19: =IF(H19=(I19+J19),"◯","×") -> ◯
B20: 12 | D20: 日 | F20: ： | O20: =IF(J20>0,"人数？","0") -> 0 | R20: =IF(H20=(I20+J20),"◯","×") -> ◯
B21: 13 | D21: 日 | F21: ： | O21: =IF(J21>0,"人数？","0") -> 0 | R21: =IF(H21=(I21+J21),"◯","×") -> ◯
... B39: 31 | D39: 日 | F39: ： | O39: =IF(J39>0,"人数？","0") -> 0 | R39: =IF(H39=(I39+J39),"◯","×") -> ◯
B40: （注１）クロマグロの混獲の無い場合でも、操業・漁具の修繕等をおこなった場合には管理野帳を記載すること。
B41: （注２）対応方法の欄にはクロマグロの具体的な放流方法を明記すること。
B42: （注３）複数の漁業種類による場合、操業日ごとの漁法を明記すること。
B43: （注４）放流作業に掛かった人数を明記すること。
B44: （注５）放流目回りは、放流したクロマグロに応じた平均目回りを記載すること。
B45: （注６）クロマグロ混獲に伴う漁具の破損状況は、破網した範囲、損傷等した針数・釣糸の長さ等を具体的に記入すること。
B47: 操業 日数 | C47: =COUNTA(C9:C39) -> 0 | H47: =COUNTIF(H9:H39, ">0") -> 0 | I47: (うち混獲あり） | R47: 正誤
G48: 合計 | H48: =SUM(H9:H39) -> 0 | I48: =SUM(I9:I39) -> 0 | J48: =SUM(J9:J39) -> 0 | L48: 混獲 | M48: = 漁獲 | N48: ＋ | O48: 放流 | Q48: ➡ | R48: =IF(H48=(I48+J48),"◯","×") -> ◯
H49: 混獲 | I49: 漁獲 | J49: 放流
D50: 平均尾数 | H50: =$H$48/$H$47 -> #DIV/0! | J50: =$J$48/$H$47 -> #DIV/0! | O50: ※漁具修繕 | P50: =IF(COUNT($P$9:$P$39)>0,"有","")
H51: 混獲 | J51: 放流 | P51: =SUM($P$9:$P$39) -> 0
H52: （混獲の総尾数÷混獲があった日数） | J52: （放流した総尾数÷混獲があった日数）

Sheet R8.10
B1: ひな型野帳（定置）
H2: クロマグロ混獲状況操業野帳（定置漁業） | O2: 10
M3: 報告年月： | N3: 8 | Q3: 月
M4: 所属先： | N4: =+'R8.4'!$N$4 -> ●● 組合
M5: 定置網名（法人名）： | N5: =+'R8.4'!$N$5 -> ●● ●●
M6: ：
B7: NO. | C7: 作業日 | E7: 出漁時刻 | H7: クロマグロ混獲状況 | M7: 主な対象魚種 | N7: 対応方法 | O7: 放流作業人数 | P7: 漁具修繕に要した人数 | Q7: その他
H8: クロマグロ混獲尾数 | I8: うち漁獲尾数 | J8: うち生存放流尾数 | K8: 放流目回り (kg/尾) | L8: クロマグロ混獲に伴う漁具破損状況 | R8: 正 誤
B9: 1 | D9: 日 | E9: 7 | F9: ： | G9: 0 | O9: =IF(J9>0,"人数？","0") -> 0 | R9: =IF(H9=(I9+J9),"◯","×") -> ◯
B10: 2 | D10: 日 | F10: ： | O10: =IF(J10>0,"人数？","0") -> 0 | R10: =IF(H10=(I10+J10),"◯","×") -> ◯
B11: 3 | D11: 日 | F11: ： | O11: =IF(J11>0,"人数？","0") -> 0 | R11: =IF(H11=(I11+J11),"◯","×") -> ◯
B12: 4 | D12: 日 | F12: ： | O12: =IF(J12>0,"人数？","0") -> 0 | R12: =IF(H12=(I12+J12),"◯","×") -> ◯
B13: 5 | D13: 日 | F13: ： | O13: =IF(J13>0,"人数？","0") -> 0 | R13: =IF(H13=(I13+J13),"◯","×") -> ◯
B14: 6 | D14: 日 | F14: ： | O14: =IF(J14>0,"人数？","0") -> 0 | R14: =IF(H14=(I14+J14),"◯","×") -> ◯
B15: 7 | D15: 日 | F15: ： | O15: =IF(J15>0,"人数？","0") -> 0 | R15: =IF(H15=(I15+J15),"◯","×") -> ◯
B16: 8 | D16: 日 | F16: ： | O16: =IF(J16>0,"人数？","0") -> 0 | R16: =IF(H16=(I16+J16),"◯","×") -> ◯
B17: 9 | D17: 日 | F17: ： | O17: =IF(J17>0,"人数？","0") -> 0 | R17: =IF(H17=(I17+J17),"◯","×") -> ◯
B18: 10 | D18: 日 | F18: ： | O18: =IF(J18>0,"人数？","0") -> 0 | R18: =IF(H18=(I18+J18),"◯","×") -> ◯
B19: 11 | D19: 日 | F19: ： | O19: =IF(J19>0,"人数？","0") -> 0 | R19: =IF(H19=(I19+J19),"◯","×") -> ◯
B20: 12 | D20: 日 | F20: ： | O20: =IF(J20>0,"人数？","0") -> 0 | R20: =IF(H20=(I20+J20),"◯","×") -> ◯
B21: 13 | D21: 日 | F21: ： | O21: =IF(J21>0,"人数？","0") -> 0 | R21: =IF(H21=(I21+J21),"◯","×") -> ◯
... B39: 31 | D39: 日 | F39: ： | O39: =IF(J39>0,"人数？","0") -> 0 | R39: =IF(H39=(I39+J39),"◯","×") -> ◯
B40: （注１）クロマグロの混獲の無い場合でも、操業・漁具の修繕等をおこなった場合には管理野帳を記載すること。
B41: （注２）対応方法の欄にはクロマグロの具体的な放流方法を明記すること。
B42: （注３）複数の漁業種類による場合、操業日ごとの漁法を明記すること。
B43: （注４）放流作業に掛かった人数を明記すること。
B44: （注５）放流目回りは、放流したクロマグロに応じた平均目回りを記載すること。
B45: （注６）クロマグロ混獲に伴う漁具の破損状況は、破網した範囲、損傷等した針数・釣糸の長さ等を具体的に記入すること。
B47: 操業 日数 | C47: =COUNTA(C9:C39) -> 0 | H47: =COUNTIF(H9:H39, ">0") -> 0 | I47: (うち混獲あり） | R47: 正誤
G48: 合計 | H48: =SUM(H9:H39) -> 0 | I48: =SUM(I9:I39) -> 0 | J48: =SUM(J9:J39) -> 0 | L48: 混獲 | M48: = 漁獲 | N48: ＋ | O48: 放流 | Q48: ➡ | R48: =IF(H48=(I48+J48),"◯","×") -> ◯
H49: 混獲 | I49: 漁獲 | J49: 放流
D50: 平均尾数 | H50: =$H$48/$H$47 -> #DIV/0! | J50: =$J$48/$H$47 -> #DIV/0! | O50: ※漁具修繕 | P50: =IF(COUNT($P$9:$P$39)>0,"有","")
H51: 混獲 | J51: 放流 | P51: =SUM($P$9:$P$39) -> 0
H52: （混獲の総尾数÷混獲があった日数） | J52: （放流した総尾数÷混獲があった日数）

Sheet R8.11
B1: ひな型野帳（定置）
H2: クロマグロ混獲状況操業野帳（定置漁業） | O2: 11
M3: 報告年月： | N3: 8 | Q3: 月
M4: 所属先： | N4: =+'R8.4'!$N$4 -> ●● 組合
M5: 定置網名（法人名）： | N5: =+'R8.4'!$N$5 -> ●● ●●
M6: ：
B7: NO. | C7: 作業日 | E7: 出漁時刻 | H7: クロマグロ混獲状況 | M7: 主な対象魚種 | N7: 対応方法 | O7: 放流作業人数 | P7: 漁具修繕に要した人数 | Q7: その他
H8: クロマグロ混獲尾数 | I8: うち漁獲尾数 | J8: うち生存放流尾数 | K8: 放流目回り (kg/尾) | L8: クロマグロ混獲に伴う漁具破損状況 | R8: 正 誤
B9: 1 | D9: 日 | E9: 7 | F9: ： | G9: 0 | O9: =IF(J9>0,"人数？","0") -> 0 | R9: =IF(H9=(I9+J9),"◯","×") -> ◯
B10: 2 | D10: 日 | F10: ： | O10: =IF(J10>0,"人数？","0") -> 0 | R10: =IF(H10=(I10+J10),"◯","×") -> ◯
B11: 3 | D11: 日 | F11: ： | O11: =IF(J11>0,"人数？","0") -> 0 | R11: =IF(H11=(I11+J11),"◯","×") -> ◯
B12: 4 | D12: 日 | F12: ： | O12: =IF(J12>0,"人数？","0") -> 0 | R12: =IF(H12=(I12+J12),"◯","×") -> ◯
B13: 5 | D13: 日 | F13: ： | O13: =IF(J13>0,"人数？","0") -> 0 | R13: =IF(H13=(I13+J13),"◯","×") -> ◯
B14: 6 | D14: 日 | F14: ： | O14: =IF(J14>0,"人数？","0") -> 0 | R14: =IF(H14=(I14+J14),"◯","×") -> ◯
B15: 7 | D15: 日 | F15: ： | O15: =IF(J15>0,"人数？","0") -> 0 | R15: =IF(H15=(I15+J15),"◯","×") -> ◯
B16: 8 | D16: 日 | F16: ： | O16: =IF(J16>0,"人数？","0") -> 0 | R16: =IF(H16=(I16+J16),"◯","×") -> ◯
B17: 9 | D17: 日 | F17: ： | O17: =IF(J17>0,"人数？","0") -> 0 | R17: =IF(H17=(I17+J17),"◯","×") -> ◯
B18: 10 | D18: 日 | F18: ： | O18: =IF(J18>0,"人数？","0") -> 0 | R18: =IF(H18=(I18+J18),"◯","×") -> ◯
B19: 11 | D19: 日 | F19: ： | O19: =IF(J19>0,"人数？","0") -> 0 | R19: =IF(H19=(I19+J19),"◯","×") -> ◯
B20: 12 | D20: 日 | F20: ： | O20: =IF(J20>0,"人数？","0") -> 0 | R20: =IF(H20=(I20+J20),"◯","×") -> ◯
B21: 13 | D21: 日 | F21: ： | O21: =IF(J21>0,"人数？","0") -> 0 | R21: =IF(H21=(I21+J21),"◯","×") -> ◯
... B39: 31 | D39: 日 | F39: ： | O39: =IF(J39>0,"人数？","0") -> 0 | R39: =IF(H39=(I39+J39),"◯","×") -> ◯
B40: （注１）クロマグロの混獲の無い場合でも、操業・漁具の修繕等をおこなった場合には管理野帳を記載すること。
B41: （注２）対応方法の欄にはクロマグロの具体的な放流方法を明記すること。
B42: （注３）複数の漁業種類による場合、操業日ごとの漁法を明記すること。
B43: （注４）放流作業に掛かった人数を明記すること。
B44: （注５）放流目回りは、放流したクロマグロに応じた平均目回りを記載すること。
B45: （注６）クロマグロ混獲に伴う漁具の破損状況は、破網した範囲、損傷等した針数・釣糸の長さ等を具体的に記入すること。
B47: 操業 日数 | C47: =COUNTA(C9:C39) -> 0 | H47: =COUNTIF(H9:H39, ">0") -> 0 | I47: (うち混獲あり） | R47: 正誤
G48: 合計 | H48: =SUM(H9:H39) -> 0 | I48: =SUM(I9:I39) -> 0 | J48: =SUM(J9:J39) -> 0 | L48: 混獲 | M48: = 漁獲 | N48: ＋ | O48: 放流 | Q48: ➡ | R48: =IF(H48=(I48+J48),"◯","×") -> ◯
H49: 混獲 | I49: 漁獲 | J49: 放流
D50: 平均尾数 | H50: =$H$48/$H$47 -> #DIV/0! | J50: =$J$48/$H$47 -> #DIV/0! | O50: ※漁具修繕 | P50: =IF(COUNT($P$9:$P$39)>0,"有","")
H51: 混獲 | J51: 放流 | P51: =SUM($P$9:$P$39) -> 0
H52: （混獲の総尾数÷混獲があった日数） | J52: （放流した総尾数÷混獲があった日数）

Sheet R8.12
B1: ひな型野帳（定置）
H2: クロマグロ混獲状況操業野帳（定置漁業） | O2: 12
M3: 報告年月： | N3: 8 | Q3: 月
M4: 所属先： | N4: =+'R8.4'!$N$4 -> ●● 組合
M5: 定置網名（法人名）： | N5: =+'R8.4'!$N$5 -> ●● ●●
M6: ：
B7: NO. | C7: 作業日 | E7: 出漁時刻 | H7: クロマグロ混獲状況 | M7: 主な対象魚種 | N7: 対応方法 | O7: 放流作業人数 | P7: 漁具修繕に要した人数 | Q7: その他
H8: クロマグロ混獲尾数 | I8: うち漁獲尾数 | J8: うち生存放流尾数 | K8: 放流目回り (kg/尾) | L8: クロマグロ混獲に伴う漁具破損状況 | R8: 正 誤
B9: 1 | D9: 日 | E9: 7 | F9: ： | G9: 0 | O9: =IF(J9>0,"人数？","0") -> 0 | R9: =IF(H9=(I9+J9),"◯","×") -> ◯
B10: 2 | D10: 日 | F10: ： | O10: =IF(J10>0,"人数？","0") -> 0 | R10: =IF(H10=(I10+J10),"◯","×") -> ◯
B11: 3 | D11: 日 | F11: ： | O11: =IF(J11>0,"人数？","0") -> 0 | R11: =IF(H11=(I11+J11),"◯","×") -> ◯
B12: 4 | D12: 日 | F12: ： | O12: =IF(J12>0,"人数？","0") -> 0 | R12: =IF(H12=(I12+J12),"◯","×") -> ◯
B13: 5 | D13: 日 | F13: ： | O13: =IF(J13>0,"人数？","0") -> 0 | R13: =IF(H13=(I13+J13),"◯","×") -> ◯
B14: 6 | D14: 日 | F14: ： | O14: =IF(J14>0,"人数？","0") -> 0 | R14: =IF(H14=(I14+J14),"◯","×") -> ◯
B15: 7 | D15: 日 | F15: ： | O15: =IF(J15>0,"人数？","0") -> 0 | R15: =IF(H15=(I15+J15),"◯","×") -> ◯
B16: 8 | D16: 日 | F16: ： | O16: =IF(J16>0,"人数？","0") -> 0 | R16: =IF(H16=(I16+J16),"◯","×") -> ◯
B17: 9 | D17: 日 | F17: ： | O17: =IF(J17>0,"人数？","0") -> 0 | R17: =IF(H17=(I17+J17),"◯","×") -> ◯
B18: 10 | D18: 日 | F18: ： | O18: =IF(J18>0,"人数？","0") -> 0 | R18: =IF(H18=(I18+J18),"◯","×") -> ◯
B19: 11 | D19: 日 | F19: ： | O19: =IF(J19>0,"人数？","0") -> 0 | R19: =IF(H19=(I19+J19),"◯","×") -> ◯
B20: 12 | D20: 日 | F20: ： | O20: =IF(J20>0,"人数？","0") -> 0 | R20: =IF(H20=(I20+J20),"◯","×") -> ◯
B21: 13 | D21: 日 | F21: ： | O21: =IF(J21>0,"人数？","0") -> 0 | R21: =IF(H21=(I21+J21),"◯","×") -> ◯
... B39: 31 | D39: 日 | F39: ： | O39: =IF(J39>0,"人数？","0") -> 0 | R39: =IF(H39=(I39+J39),"◯","×") -> ◯
B40: （注１）クロマグロの混獲の無い場合でも、操業・漁具の修繕等をおこなった場合には管理野帳を記載すること。
B41: （注２）対応方法の欄にはクロマグロの具体的な放流方法を明記すること。
B42: （注３）複数の漁業種類による場合、操業日ごとの漁法を明記すること。
B43: （注４）放流作業に掛かった人数を明記すること。
B44: （注５）放流目回りは、放流したクロマグロに応じた平均目回りを記載すること。
B45: （注６）クロマグロ混獲に伴う漁具の破損状況は、破網した範囲、損傷等した針数・釣糸の長さ等を具体的に記入すること。
B47: 操業 日数 | C47: =COUNTA(C9:C39) -> 0 | H47: =COUNTIF(H9:H39, ">0") -> 0 | I47: (うち混獲あり） | R47: 正誤
G48: 合計 | H48: =SUM(H9:H39) -> 0 | I48: =SUM(I9:I39) -> 0 | J48: =SUM(J9:J39) -> 0 | L48: 混獲 | M48: = 漁獲 | N48: ＋ | O48: 放流 | Q48: ➡ | R48: =IF(H48=(I48+J48),"◯","×") -> ◯
H49: 混獲 | I49: 漁獲 | J49: 放流
D50: 平均尾数 | H50: =$H$48/$H$47 -> #DIV/0! | J50: =$J$48/$H$47 -> #DIV/0! | O50: ※漁具修繕 | P50: =IF(COUNT($P$9:$P$39)>0,"有","")
H51: 混獲 | J51: 放流 | P51: =SUM($P$9:$P$39) -> 0
H52: （混獲の総尾数÷混獲があった日数） | J52: （放流した総尾数÷混獲があった日数）

Sheet R9.1
B1: ひな型野帳（定置）
H2: クロマグロ混獲状況操業野帳（定置漁業） | O2: 1
M3: 報告年月： | N3: 9 | Q3: 月
M4: 所属先： | N4: =+'R8.4'!$N$4 -> ●● 組合
M5: 定置網名（法人名）： | N5: =+'R8.4'!$N$5 -> ●● ●●
M6: ：
B7: NO. | C7: 作業日 | E7: 出漁時刻 | H7: クロマグロ混獲状況 | M7: 主な対象魚種 | N7: 対応方法 | O7: 放流作業人数 | P7: 漁具修繕に要した人数 | Q7: その他
H8: クロマグロ混獲尾数 | I8: うち漁獲尾数 | J8: うち生存放流尾数 | K8: 放流目回り (kg/尾) | L8: クロマグロ混獲に伴う漁具破損状況 | R8: 正 誤
B9: 1 | D9: 日 | E9: 7 | F9: ： | G9: 0 | O9: =IF(J9>0,"人数？","0") -> 0 | R9: =IF(H9=(I9+J9),"◯","×") -> ◯
B10: 2 | D10: 日 | F10: ： | O10: =IF(J10>0,"人数？","0") -> 0 | R10: =IF(H10=(I10+J10),"◯","×") -> ◯
B11: 3 | D11: 日 | F11: ： | O11: =IF(J11>0,"人数？","0") -> 0 | R11: =IF(H11=(I11+J11),"◯","×") -> ◯
B12: 4 | D12: 日 | F12: ： | O12: =IF(J12>0,"人数？","0") -> 0 | R12: =IF(H12=(I12+J12),"◯","×") -> ◯
B13: 5 | D13: 日 | F13: ： | O13: =IF(J13>0,"人数？","0") -> 0 | R13: =IF(H13=(I13+J13),"◯","×") -> ◯
B14: 6 | D14: 日 | F14: ： | O14: =IF(J14>0,"人数？","0") -> 0 | R14: =IF(H14=(I14+J14),"◯","×") -> ◯
B15: 7 | D15: 日 | F15: ： | O15: =IF(J15>0,"人数？","0") -> 0 | R15: =IF(H15=(I15+J15),"◯","×") -> ◯
B16: 8 | D16: 日 | F16: ： | O16: =IF(J16>0,"人数？","0") -> 0 | R16: =IF(H16=(I16+J16),"◯","×") -> ◯
B17: 9 | D17: 日 | F17: ： | O17: =IF(J17>0,"人数？","0") -> 0 | R17: =IF(H17=(I17+J17),"◯","×") -> ◯
B18: 10 | D18: 日 | F18: ： | O18: =IF(J18>0,"人数？","0") -> 0 | R18: =IF(H18=(I18+J18),"◯","×") -> ◯
B19: 11 | D19: 日 | F19: ： | O19: =IF(J19>0,"人数？","0") -> 0 | R19: =IF(H19=(I19+J19),"◯","×") -> ◯
B20: 12 | D20: 日 | F20: ： | O20: =IF(J20>0,"人数？","0") -> 0 | R20: =IF(H20=(I20+J20),"◯","×") -> ◯
B21: 13 | D21: 日 | F21: ： | O21: =IF(J21>0,"人数？","0") -> 0 | R21: =IF(H21=(I21+J21),"◯","×") -> ◯
... B39: 31 | D39: 日 | F39: ： | O39: =IF(J39>0,"人数？","0") -> 0 | R39: =IF(H39=(I39+J39),"◯","×") -> ◯
B40: （注１）クロマグロの混獲の無い場合でも、操業・漁具の修繕等をおこなった場合には管理野帳を記載すること。
B41: （注２）対応方法の欄にはクロマグロの具体的な放流方法を明記すること。
B42: （注３）複数の漁業種類による場合、操業日ごとの漁法を明記すること。
B43: （注４）放流作業に掛かった人数を明記すること。
B44: （注５）放流目回りは、放流したクロマグロに応じた平均目回りを記載すること。
B45: （注６）クロマグロ混獲に伴う漁具の破損状況は、破網した範囲、損傷等した針数・釣糸の長さ等を具体的に記入すること。
B47: 操業 日数 | C47: =COUNTA(C9:C39) -> 0 | H47: =COUNTIF(H9:H39, ">0") -> 0 | I47: (うち混獲あり） | R47: 正誤
G48: 合計 | H48: =SUM(H9:H39) -> 0 | I48: =SUM(I9:I39) -> 0 | J48: =SUM(J9:J39) -> 0 | L48: 混獲 | M48: = 漁獲 | N48: ＋ | O48: 放流 | Q48: ➡ | R48: =IF(H48=(I48+J48),"◯","×") -> ◯
H49: 混獲 | I49: 漁獲 | J49: 放流
D50: 平均尾数 | H50: =$H$48/$H$47 -> #DIV/0! | J50: =$J$48/$H$47 -> #DIV/0! | O50: ※漁具修繕 | P50: =IF(COUNT($P$9:$P$39)>0,"有","")
H51: 混獲 | J51: 放流 | P51: =SUM($P$9:$P$39) -> 0
H52: （混獲の総尾数÷混獲があった日数） | J52: （放流した総尾数÷混獲があった日数）

Sheet R9.2
B1: ひな型野帳（定置）
H2: クロマグロ混獲状況操業野帳（定置漁業） | O2: 2
M3: 報告年月： | N3: 9 | Q3: 月
M4: 所属先： | N4: =+'R8.4'!$N$4 -> ●● 組合
M5: 定置網名（法人名）： | N5: =+'R8.4'!$N$5 -> ●● ●●
M6: ：
B7: NO. | C7: 作業日 | E7: 出漁時刻 | H7: クロマグロ混獲状況 | M7: 主な対象魚種 | N7: 対応方法 | O7: 放流作業人数 | P7: 漁具修繕に要した人数 | Q7: その他
H8: クロマグロ混獲尾数 | I8: うち漁獲尾数 | J8: うち生存放流尾数 | K8: 放流目回り (kg/尾) | L8: クロマグロ混獲に伴う漁具破損状況 | R8: 正 誤
B9: 1 | D9: 日 | E9: 7 | F9: ： | G9: 0 | O9: =IF(J9>0,"人数？","0") -> 0 | R9: =IF(H9=(I9+J9),"◯","×") -> ◯
B10: 2 | D10: 日 | F10: ： | O10: =IF(J10>0,"人数？","0") -> 0 | R10: =IF(H10=(I10+J10),"◯","×") -> ◯
B11: 3 | D11: 日 | F11: ： | O11: =IF(J11>0,"人数？","0") -> 0 | R11: =IF(H11=(I11+J11),"◯","×") -> ◯
B12: 4 | D12: 日 | F12: ： | O12: =IF(J12>0,"人数？","0") -> 0 | R12: =IF(H12=(I12+J12),"◯","×") -> ◯
B13: 5 | D13: 日 | F13: ： | O13: =IF(J13>0,"人数？","0") -> 0 | R13: =IF(H13=(I13+J13),"◯","×") -> ◯
B14: 6 | D14: 日 | F14: ： | O14: =IF(J14>0,"人数？","0") -> 0 | R14: =IF(H14=(I14+J14),"◯","×") -> ◯
B15: 7 | D15: 日 | F15: ： | O15: =IF(J15>0,"人数？","0") -> 0 | R15: =IF(H15=(I15+J15),"◯","×") -> ◯
B16: 8 | D16: 日 | F16: ： | O16: =IF(J16>0,"人数？","0") -> 0 | R16: =IF(H16=(I16+J16),"◯","×") -> ◯
B17: 9 | D17: 日 | F17: ： | O17: =IF(J17>0,"人数？","0") -> 0 | R17: =IF(H17=(I17+J17),"◯","×") -> ◯
B18: 10 | D18: 日 | F18: ： | O18: =IF(J18>0,"人数？","0") -> 0 | R18: =IF(H18=(I18+J18),"◯","×") -> ◯
B19: 11 | D19: 日 | F19: ： | O19: =IF(J19>0,"人数？","0") -> 0 | R19: =IF(H19=(I19+J19),"◯","×") -> ◯
B20: 12 | D20: 日 | F20: ： | O20: =IF(J20>0,"人数？","0") -> 0 | R20: =IF(H20=(I20+J20),"◯","×") -> ◯
B21: 13 | D21: 日 | F21: ： | O21: =IF(J21>0,"人数？","0") -> 0 | R21: =IF(H21=(I21+J21),"◯","×") -> ◯
... B39: 31 | D39: 日 | F39: ： | O39: =IF(J39>0,"人数？","0") -> 0 | R39: =IF(H39=(I39+J39),"◯","×") -> ◯
B40: （注１）クロマグロの混獲の無い場合でも、操業・漁具の修繕等をおこなった場合には管理野帳を記載すること。
B41: （注２）対応方法の欄にはクロマグロの具体的な放流方法を明記すること。
B42: （注３）複数の漁業種類による場合、操業日ごとの漁法を明記すること。
B43: （注４）放流作業に掛かった人数を明記すること。
B44: （注５）放流目回りは、放流したクロマグロに応じた平均目回りを記載すること。
B45: （注６）クロマグロ混獲に伴う漁具の破損状況は、破網した範囲、損傷等した針数・釣糸の長さ等を具体的に記入すること。
B47: 操業 日数 | C47: =COUNTA(C9:C39) -> 0 | H47: =COUNTIF(H9:H39, ">0") -> 0 | I47: (うち混獲あり） | R47: 正誤
G48: 合計 | H48: =SUM(H9:H39) -> 0 | I48: =SUM(I9:I39) -> 0 | J48: =SUM(J9:J39) -> 0 | L48: 混獲 | M48: = 漁獲 | N48: ＋ | O48: 放流 | Q48: ➡ | R48: =IF(H48=(I48+J48),"◯","×") -> ◯
H49: 混獲 | I49: 漁獲 | J49: 放流
D50: 平均尾数 | H50: =$H$48/$H$47 -> #DIV/0! | J50: =$J$48/$H$47 -> #DIV/0! | O50: ※漁具修繕 | P50: =IF(COUNT($P$9:$P$39)>0,"有","")
H51: 混獲 | J51: 放流 | P51: =SUM($P$9:$P$39) -> 0
H52: （混獲の総尾数÷混獲があった日数） | J52: （放流した総尾数÷混獲があった日数）

Sheet R9.3
B1: ひな型野帳（定置）
H2: クロマグロ混獲状況操業野帳（定置漁業） | O2: 3
M3: 報告年月： | N3: 9 | Q3: 月
M4: 所属先： | N4: =+'R8.4'!$N$4 -> ●● 組合
M5: 定置網名（法人名）： | N5: =+'R8.4'!$N$5 -> ●● ●●
M6: ：
B7: NO. | C7: 作業日 | E7: 出漁時刻 | H7: クロマグロ混獲状況 | M7: 主な対象魚種 | N7: 対応方法 | O7: 放流作業人数 | P7: 漁具修繕に要した人数 | Q7: その他
H8: クロマグロ混獲尾数 | I8: うち漁獲尾数 | J8: うち生存放流尾数 | K8: 放流目回り (kg/尾) | L8: クロマグロ混獲に伴う漁具破損状況 | R8: 正 誤
B9: 1 | D9: 日 | E9: 7 | F9: ： | G9: 0 | O9: =IF(J9>0,"人数？","0") -> 0 | R9: =IF(H9=(I9+J9),"◯","×") -> ◯
B10: 2 | D10: 日 | F10: ： | O10: =IF(J10>0,"人数？","0") -> 0 | R10: =IF(H10=(I10+J10),"◯","×") -> ◯
B11: 3 | D11: 日 | F11: ： | O11: =IF(J11>0,"人数？","0") -> 0 | R11: =IF(H11=(I11+J11),"◯","×") -> ◯
B12: 4 | D12: 日 | F12: ： | O12: =IF(J12>0,"人数？","0") -> 0 | R12: =IF(H12=(I12+J12),"◯","×") -> ◯
B13: 5 | D13: 日 | F13: ： | O13: =IF(J13>0,"人数？","0") -> 0 | R13: =IF(H13=(I13+J13),"◯","×") -> ◯
B14: 6 | D14: 日 | F14: ： | O14: =IF(J14>0,"人数？","0") -> 0 | R14: =IF(H14=(I14+J14),"◯","×") -> ◯
B15: 7 | D15: 日 | F15: ： | O15: =IF(J15>0,"人数？","0") -> 0 | R15: =IF(H15=(I15+J15),"◯","×") -> ◯
B16: 8 | D16: 日 | F16: ： | O16: =IF(J16>0,"人数？","0") -> 0 | R16: =IF(H16=(I16+J16),"◯","×") -> ◯
B17: 9 | D17: 日 | F17: ： | O17: =IF(J17>0,"人数？","0") -> 0 | R17: =IF(H17=(I17+J17),"◯","×") -> ◯
B18: 10 | D18: 日 | F18: ： | O18: =IF(J18>0,"人数？","0") -> 0 | R18: =IF(H18=(I18+J18),"◯","×") -> ◯
B19: 11 | D19: 日 | F19: ： | O19: =IF(J19>0,"人数？","0") -> 0 | R19: =IF(H19=(I19+J19),"◯","×") -> ◯
B20: 12 | D20: 日 | F20: ： | O20: =IF(J20>0,"人数？","0") -> 0 | R20: =IF(H20=(I20+J20),"◯","×") -> ◯
B21: 13 | D21: 日 | F21: ： | O21: =IF(J21>0,"人数？","0") -> 0 | R21: =IF(H21=(I21+J21),"◯","×") -> ◯
... B39: 31 | D39: 日 | F39: ： | O39: =IF(J39>0,"人数？","0") -> 0 | R39: =IF(H39=(I39+J39),"◯","×") -> ◯
B40: （注１）クロマグロの混獲の無い場合でも、操業・漁具の修繕等をおこなった場合には管理野帳を記載すること。
B41: （注２）対応方法の欄にはクロマグロの具体的な放流方法を明記すること。
B42: （注３）複数の漁業種類による場合、操業日ごとの漁法を明記すること。
B43: （注４）放流作業に掛かった人数を明記すること。
B44: （注５）放流目回りは、放流したクロマグロに応じた平均目回りを記載すること。
B45: （注６）クロマグロ混獲に伴う漁具の破損状況は、破網した範囲、損傷等した針数・釣糸の長さ等を具体的に記入すること。
B47: 操業 日数 | C47: =COUNTA(C9:C39) -> 0 | H47: =COUNTIF(H9:H39, ">0") -> 0 | I47: (うち混獲あり） | R47: 正誤
G48: 合計 | H48: =SUM(H9:H39) -> 0 | I48: =SUM(I9:I39) -> 0 | J48: =SUM(J9:J39) -> 0 | L48: 混獲 | M48: = 漁獲 | N48: ＋ | O48: 放流 | Q48: ➡ | R48: =IF(H48=(I48+J48),"◯","×") -> ◯
H49: 混獲 | I49: 漁獲 | J49: 放流
D50: 平均尾数 | H50: =$H$48/$H$47 -> #DIV/0! | J50: =$J$48/$H$47 -> #DIV/0! | O50: ※漁具修繕 | P50: =IF(COUNT($P$9:$P$39)>0,"有","")
H51: 混獲 | J51: 放流 | P51: =SUM($P$9:$P$39) -> 0
H52: （混獲の総尾数÷混獲があった日数） | J52: （放流した総尾数÷混獲があった日数）

Sheet 記入例(複数月)
B1: ひな型野帳（定置）
I2: クロマグロ混獲状況操業野帳（定置漁業）
N3: 報告年月： | O3: 令和８年 | P3: 4 | R3: 5
N4: 所属先： | O4: =+'[1]R8.4'!$N$4 -> ●● 組合
N5: 定置網名（法人名）： | O5: =+'[1]R8.4'!$N$5 -> ●● ●●
N6: ：
C7: 作業日 | F7: 出漁時刻 | I7: クロマグロ混獲状況 | N7: 主な対象魚種 | O7: 対応方法 | P7: 放流作業人数 | Q7: 漁具修繕に要した人数 | R7: その他 | S7: 正 誤
I8: クロマグロ混獲尾数 | J8: うち漁獲 尾数 | K8: うち生存放流尾数 | L8: 放流目廻り ( kg ) | M8: クロマグロ混獲に伴う漁具の破損状況
B9: 1 | C9: 4 | D9: 1 | E9: 日 | F9: 7 | G9: ： | H9: 0 | I9: 50 | J9: 2 | K9: 48 | L9: ～10 | P9: =IF(K9>0,"人数？","0") -> 人数？ | S9: =IF(I9=(J9+K9),"◯","×") -> ◯
B10: 2 | D10: 2 | E10: 日 | F10: 7 | G10: ： | H10: 10 | I10: 46 | J10: 15 | K10: 21 | L10: 30～100 | P10: =IF(K10>0,"人数？","0") -> 人数？ | S10: =IF(I10=(J10+K10),"◯","×") -> ×
B11: 3 | D11: 3 | E11: 日 | F11: 7 | G11: ： | H11: 0 | I11: 0 | J11: 0 | K11: 0 | P11: =IF(K11>0,"人数？","0") -> 0 | S11: =IF(I11=(J11+K11),"◯","×") -> ◯
B12: 4 | D12: 5 | E12: 日 | F12: 7 | G12: ： | H12: 0 | I12: 102 | J12: 10 | K12: 98 | L12: ～30 | P12: =IF(K12>0,"人数？","0") -> 人数？ | S12: =IF(I12=(J12+K12),"◯","×") -> ×
B13: 5 | D13: 6 | E13: 日 | F13: 7 | G13: ： | H13: 0 | I13: 0 | J13: 0 | K13: 0 | P13: =IF(K13>0,"人数？","0") -> 0 | S13: =IF(I13=(J13+K13),"◯","×") -> ◯
B14: 6 | D14: 15 | E14: 日 | F14: 7 | G14: ： | H14: 0 | I14: 0 | J14: 0 | K14: 0 | P14: =IF(K14>0,"人数？","0") -> 0 | S14: =IF(I14=(J14+K14),"◯","×") -> ◯
B15: 7 | D15: 16 | E15: 日 | F15: 7 | G15: ： | H15: 0 | I15: 9 | J15: 0 | K15: 9 | L15: ～10 | P15: =IF(K15>0,"人数？","0") -> 人数？ | S15: =IF(I15=(J15+K15),"◯","×") -> ◯
B16: 8 | D16: 17 | E16: 日 | F16: 7 | G16: ： | H16: 0 | I16: 20 | J16: 5 | K16: 15 | L16: ～30 | P16: =IF(K16>0,"人数？","0") -> 人数？ | S16: =IF(I16=(J16+K16),"◯","×") -> ◯
B17: 9 | D17: 18 | E17: 日 | F17: 7 | G17: ： | H17: 0 | I17: 25 | J17: 11 | K17: 14 | L17: ～10 | P17: =IF(K17>0,"人数？","0") -> 人数？ | S17: =IF(I17=(J17+K17),"◯","×") -> ◯
B18: 10 | D18: 19 | E18: 日 | F18: 7 | G18: ： | H18: 0 | I18: 10 | J18: 10 | K18: 0 | P18: =IF(K18>0,"人数？","0") -> 0 | S18: =IF(I18=(J18+K18),"◯","×") -> ◯
B19: 11 | D19: 20 | E19: 日 | F19: 7 | G19: ： | H19: 0 | I19: 10 | J19: 10 | K19: 0 | P19: =IF(K19>0,"人数？","0") -> 0 | S19: =IF(I19=(J19+K19),"◯","×") -> ◯
B20: 12 | D20: 25 | E20: 日 | F20: 7 | G20: ： | H20: 0 | I20: 0 | J20: 0 | K20: 1 | L20: ～5 | P20: =IF(K20>0,"人数？","0") -> 人数？ | S20: =IF(I20=(J20+K20),"◯","×") -> ×
B21: 13 | D21: 28 | E21: 日 | F21: 7 | G21: ： | H21: 0 | I21: 1 | J21: 0 | K21: 0 | P21: =IF(K21>0,"人数？","0") -> 0 | S21: =IF(I21=(J21+K21),"◯","×") -> ×
B22: 14 | D22: 30 | E22: 日 | F22: 7 | G22: ： | H22: 0 | I22: 1 | J22: 1 | K22: 0 | P22: =IF(K22>0,"人数？","0") -> 0 | S22: =IF(I22=(J22+K22),"◯","×") -> ◯
B23: 15 | E23: 日 | G23: ： | P23: =IF(K23>0,"人数？","0") -> 0 | S23: =IF(I23=(J23+K23),"◯","×") -> ◯
B24: 1 | C24: 5 | D24: 1 | E24: 日 | F24: 7 | G24: ： | H24: 0 | I24: 5 | J24: 5 | K24: 0 | L24: 60～100 | P24: =IF(K24>0,"人数？","0") -> 0 | S24: =IF(I24=(J24+K24),"◯","×") -> ◯
B25: =B24+1 -> 2 | D25: 2 | E25: 日 | F25: 7 | G25: ： | H25: 0 | I25: 10 | J25: 5 | K25: 5 | L25: ～30 | P25: =IF(K25>0,"人数？","0") -> 人数？ | S25: =IF(I25=(J25+K25),"◯","×") -> ◯
B26: =B25+1 -> 3 | D26: 3 | E26: 日 | F26: 7 | G26: ： | H26: 0 | I26: 15 | J26: 0 | K26: 15 | L26: ～10 | P26: =IF(K26>0,"人数？","0") -> 人数？ | S26: =IF(I26=(J26+K26),"◯","×") -> ◯
B27: =B26+1 -> 4 | D27: 5 | E27: 日 | F27: 7 | G27: ： | H27: 0 | I27: 20 | J27: 5 | K27: 15 | L27: ～30 | P27: =IF(K27>0,"人数？","0") -> 人数？ | S27: =IF(I27=(J27+K27),"◯","×") -> ◯
B28: =B27+1 -> 5 | D28: 7 | E28: 日 | F28: 7 | G28: ： | H28: 0 | I28: 25 | J28: 11 | K28: 14 | L28: ～30 | P28: =IF(K28>0,"人数？","0") -> 人数？ | S28: =IF(I28=(J28+K28),"◯","×") -> ◯
B29: =B28+1 -> 6 | D29: 9 | E29: 日 | F29: 7 | G29: ： | H29: 0 | I29: 0 | J29: 0 | K29: 0 | P29: =IF(K29>0,"人数？","0") -> 0 | S29: =IF(I29=(J29+K29),"◯","×") -> ◯
B30: =B29+1 -> 7 | D30: 10 | E30: 日 | F30: 7 | G30: ： | H30: 0 | I30: 100 | J30: 0 | K30: 100 | L30: ～10 | P30: =IF(K30>0,"人数？","0") -> 人数？ | S30: =IF(I30=(J30+K30),"◯","×") -> ◯
B31: =B30+1 -> 8 | D31: 15 | E31: 日 | F31: 7 | G31: ： | H31: 0 | I31: 50 | J31: 0 | K31: 50 | L31: ～5 | P31: =IF(K31>0,"人数？","0") -> 人数？ | S31: =IF(I31=(J31+K31),"◯","×") -> ◯
B32: =B31+1 -> 9 | D32: 16 | E32: 日 | F32: 7 | G32: ： | H32: 0 | I32: 0 | J32: 0 | K32: 0 | P32: =IF(K32>0,"人数？","0") -> 0 | S32: =IF(I32=(J32+K32),"◯","×") -> ◯
B33: =B32+1 -> 10 | D33: 17 | E33: 日 | F33: 7 | G33: ： | H33: 0 | I33: 20 | J33: 18 | K33: 2 | L33: ～30 | P33: =IF(K33>0,"人数？","0") -> 人数？ | S33: =IF(I33=(J33+K33),"◯","×") -> ◯
B34: =B33+1 -> 11 | D34: 18 | E34: 日 | F34: 7 | G34: ： | H34: 0 | I34: 25 | J34: 11 | K34: 14 | L34: ～30 | P34: =IF(K34>0,"人数？","0") -> 人数？ | S34: =IF(I34=(J34+K34),"◯","×") -> ◯
B35: =B34+1 -> 12 | D35: 19 | E35: 日 | F35: 7 | G35: ： | H35: 0 | I35: 5 | J35: 0 | K35: 5 | L35: ～10 | P35: =IF(K35>0,"人数？","0") -> 人数？ | S35: =IF(I35=(J35+K35),"◯","×") -> ◯
B36: =B35+1 -> 13 | D36: 20 | E36: 日 | F36: 7 | G36: ： | H36: 0 | I36: 0 | J36: 0 | K36: 0 | P36: =IF(K36>0,"人数？","0") -> 0 | S36: =IF(I36=(J36+K36),"◯","×") -> ◯
B37: =B36+1 -> 14 | D37: 22 | E37: 日 | F37: 7 | G37: ： | H37: 0 | I37: 20 | J37: 5 | K37: 15 | L37: ～10 | P37: =IF(K37>0,"人数？","0") -> 人数？ | S37: =IF(I37=(J37+K37),"◯","×") -> ◯
B38: =B37+1 -> 15 | D38: 25 | E38: 日 | F38: 7 | G38: ： | H38: 0 | I38: 25 | J38: 2 | K38: 23 | L38: ～5 | P38: =IF(K38>0,"人数？","0") -> 人数？ | S38: =IF(I38=(J38+K38),"◯","×") -> ◯
B39: =B38+1 -> 16 | D39: 27 | E39: 日 | F39: 7 | G39: ： | H39: 0 | I39: 1 | J39: 0 | K39: 1 | L39: ～10 | P39: =IF(K39>0,"人数？","0") -> 人数？ | S39: =IF(I39=(J39+K39),"◯","×") -> ◯
B41: （注１）クロマグロの混獲の無い場合でも、操業をおこなった場合には可能な限り、管理野帳を記載すること。
B42: （注２）対応方法の欄にはクロマグロの具体的な放流の方法を明記すること。
B43: （注3）放流作業に掛かった人数を明記すること。
B44: （注4）放流目回りは、放流したクロマグロに応じた平均目回りを記載すること。
B47: ４月 | C47: 操業 日数 | D47: =COUNTA(D9:D23) -> 14 | I47: =COUNTIF(I9:I23, ">0") -> 10 | J47: (うち混獲あり日数）
I49: =SUM(I9:I23) -> 274 | J49: =SUM(J9:J23) -> 64 | K49: =SUM(K9:K23) -> 206 | M49: 混獲 | N49: ＝ | O49: 漁獲 | P49: ＋ | R49: 放流 | S49: =IF(I49=(J49+K49),"◯","×") -> ×
I50: 混獲 | J50: 漁獲 | K50: 放流
E51: 平均尾数 | I51: =$I$49/$I$47 -> 27.4 | K51: =$K$49/$I$47 -> 20.6 | P51: ※漁具修繕 | Q51: =IF(COUNT($Q$9:$Q$23)>0,"有","")
I52: 混獲 | K52: 放流 | Q52: =SUM($Q$9:$Q$23) -> 0
I53: （混獲の総尾数÷混獲があった日数） | K53: （放流した総尾数÷混獲があった日数）
B55: 5月 | C55: 操業 日数 | D55: =COUNTA(D24:D39) -> 16 | I55: =COUNTIF(I24:I39, ">0") -> 13 | J55: (うち混獲あり日数）
I57: =SUM(I24:I39) -> 321 | J57: =SUM(J24:J39) -> 62 | K57: =SUM(K24:K39) -> 259 | M57: 混獲 | N57: ＝ | O57: 漁獲 | P57: ＋ | R57: 放流 | S57: =IF(I57=(J57+K57),"◯","×") -> ◯
I58: 混獲 | J58: 漁獲 | K58: 放流
E59: 平均尾数 | I59: =$I$57/$I$55 -> 24.692308 | K59: =$K$57/$I$55 -> 19.923077 | P59: ※漁具修繕 | Q59: =IF(COUNT($Q$24:$Q$39)>0,"有","")
I60: 混獲 | K60: 放流 | Q60: =SUM($Q$24:$Q$39) -> 0
