Workbook

Sheet 記入例（漁船）
A1: 別記様式第10－１号別添２ | P1: R8.9.4改正
F2: クロマグロ混獲状況管理野帳（漁船漁業） | M2: ●
L3: 令和●年 | N3: 月
K4: 所属漁協： | L4: ●●漁協
K5: 作成者： | L5: ●● ●●
K6: 漁船登録番号： | L6: AA１－１２３４
K7: 漁船名： | L7: ●●丸
A8: NO. | B8: 作業日 | D8: 操業位置 又は 漁場・海域 | F8: クロマグロ混獲状況 | K8: 主な対象魚種 | L8: 対応方法 | M8: 漁法 | N8: 放流作業 人数 | O8: 漁具修繕に要した人数 | P8: その他
D9: 緯度 | E9: 経度 | F9: クロマグロ混獲尾数 | G9: うち漁獲尾数 | H9: うち生存放流尾数 | I9: 放流目廻り (kg/尾) | J9: クロマグロ混獲に伴う 漁具の破損状況 | Q9: 正 誤
A10: 1 | B10: 2 | C10: 日 | D10: 〇〇海域 | F10: 5 | G10: 4 | H10: 1 | K10: タイ類 | N10: =IF(H10>0,"人数？","0") -> 人数？ | Q10: =IF(F10=(G10+H10),"◯","×") -> ◯
A11: 2 | B11: 4 | C11: 日 | D11: 〇〇海域 | F11: 20 | G11: 15 | H11: 4 | I11: ～10kg | J11: 針４本、テグス５ｍ ※詳細は別紙 | K11: サバ | L11: 例）針を外して放流 | M11: 釣り | N11: 2 | O11: 1 | Q11: =IF(F11=(G11+H11),"◯","×") -> ×
A12: 3 | B12: 5 | C12: 日 | D12: 〇〇海域 | F12: 20 | G12: 15 | H12: 5 | I12: ～10kg | K12: サバ | L12: 例）針を外して放流 | M12: 釣り | N12: 1 | Q12: =IF(F12=(G12+H12),"◯","×") -> ◯
A13: 4 | B13: 15 | C13: 日 | D13: 〇〇海域 | F13: 10 | G13: 0 | H13: 10 | I13: 10～50kg | K13: サバ | L13: 例）針を外して放流 | M13: 釣り | N13: 1 | Q13: =IF(F13=(G13+H13),"◯","×") -> ◯
A14: 5 | B14: 20 | C14: 日 | D14: 〇〇海域 | F14: 5 | G14: 5 | H14: 0 | I14: ～100kg | J14: 網破れ ※詳細は別紙 | K14: サバ | M14: 刺し網 | N14: 0 | O14: 1 | Q14: =IF(F14=(G14+H14),"◯","×") -> ◯
A15: 6 | B15: 26 | C15: 日 | D15: 〇〇海域 | F15: 15 | G15: 15 | H15: 0 | K15: アジ | N15: =IF(H15>0,"人数？","0") -> 0 | Q15: =IF(F15=(G15+H15),"◯","×") -> ◯
A16: 7 | B16: 27 | C16: 日 | D16: 〇〇海域 | F16: 1 | G16: 0 | H16: 1 | I16: ～5kg | J16: 自動イカ釣り機１台、 ライン２０ｍ ※詳細は別紙 | K16: イカ | L16: 例）ラインを切断 | M16: イカ釣り | N16: 2 | O16: 2 | Q16: =IF(F16=(G16+H16),"◯","×") -> ◯
A17: 8 | B17: 28 | C17: 日 | D17: 〇〇海域 | F17: 19 | G17: 14 | H17: 4 | I17: 5~15kg | K17: マグロ類 | L17: 例）針を外して放流 | M17: 延縄 | N17: 2 | P17: 自家消費（１尾） | Q17: =IF(F17=(G17+H17),"◯","×") -> ×
A18: 9 | C18: 日 | Q18: =IF(F18=(G18+H18),"◯","×") -> ◯
A19: 10 | C19: 日 | Q19: =IF(F19=(G19+H19),"◯","×") -> ◯
A20: 11 | C20: 日 | Q20: =IF(F20=(G20+H20),"◯","×") -> ◯
A21: 12 | C21: 日 | Q21: =IF(F21=(G21+H21),"◯","×") -> ◯
A22: 13 | C22: 日 | Q22: =IF(F22=(G22+H22),"◯","×") -> ◯
A23: 14 | C23: 日 | Q23: =IF(F23=(G23+H23),"◯","×") -> ◯
A24: 15 | C24: 日 | Q24: =IF(F24=(G24+H24),"◯","×") -> ◯
A25: 16 | C25: 日 | Q25: =IF(F25=(G25+H25),"◯","×") -> ◯
A26: 17 | C26: 日 | Q26: =IF(F26=(G26+H26),"◯","×") -> ◯
A27: 18 | C27: 日 | Q27: =IF(F27=(G27+H27),"◯","×") -> ◯
A28: 19 | C28: 日 | Q28: =IF(F28=(G28+H28),"◯","×") -> ◯
A29: 20 | C29: 日 | Q29: =IF(F29=(G29+H29),"◯","×") -> ◯
... A40: 31 | C40: 日 | Q40: =IF(F40=(G40+H40),"◯","×") -> ◯
A41: （注１）クロマグロの混獲の無い場合でも、操業・漁具の修繕等をおこなった場合には管理野帳を記載すること。
A42: （注２）対応方法の欄にはクロマグロの具体的な放流方法を明記すること。
A43: （注３）複数の漁業種類による場合、操業日ごとの漁法を明記すること。
A44: （注４）放流作業に掛かった人数を明記すること。
A45: （注５）放流目回りは、放流したクロマグロに応じた平均目回りを記載すること。
A46: （注６）クロマグロ混獲に伴う漁具の破損状況は、破網した範囲、損傷等した針数・釣糸の長さ等を具体的に記入すること。
A47: 操業 日数 | B47: =COUNTA(B10:B40) -> 8 | F47: =COUNTIF(F10:F40, ">0") -> 8 | G47: (うち混獲あり）
Q48: 正誤
E49: 合計 | F49: =SUM(F10:F31) -> 95 | G49: =SUM(G10:G31) -> 68 | H49: =SUM(H10:H31) -> 25 | K49: 混獲 | L49: ＝ 漁獲 | M49: ＋ | N49: 放流 | P49: ➡ | Q49: =IF(F49=(G49+H49),"◯","×") -> ×
F50: 混獲 | G50: 漁獲 | H50: 放流
...

Sheet R8.4
B1: 別記様式第10－１号別添２
G2: クロマグロ混獲状況管理野帳（漁船漁業） | M2: 4
K3: 報告年月： | L3: 8 | N3: 月
K4: 所属漁協： | L4: ●●漁協
K5: 作成者： | L5: ●● ●●
K6: 漁船登録番号： | L6: AA１－１２３４
K7: 漁船名： | L7: ●●丸
B8: NO. | C8: 作業日 | E8: 操業位置 又は 漁場・海域 | G8: クロマグロ混獲状況 | K8: 主な対象魚種 | L8: 対応方法 | M8: 操業時の漁法 | N8: 放流作業人数 | O8: その他
E9: 緯度 | F9: 経度 | G9: クロマグロ混獲尾数 | H9: うち漁獲尾数 | I9: うち生存放流尾数 | J9: 放流目回り (kg/尾) | P9: 正 誤
B10: 1 | D10: 日 | N10: 10 | P10: =IF(G10=(H10+I10),"◯","×") -> ◯
B11: 2 | D11: 日 | P11: =IF(G11=(H11+I11),"◯","×") -> ◯
B12: 3 | D12: 日 | P12: =IF(G12=(H12+I12),"◯","×") -> ◯
B13: 4 | D13: 日 | P13: =IF(G13=(H13+I13),"◯","×") -> ◯
B14: 5 | D14: 日 | P14: =IF(G14=(H14+I14),"◯","×") -> ◯
B15: 6 | D15: 日 | P15: =IF(G15=(H15+I15),"◯","×") -> ◯
B16: 7 | D16: 日 | P16: =IF(G16=(H16+I16),"◯","×") -> ◯
B17: 8 | D17: 日 | P17: =IF(G17=(H17+I17),"◯","×") -> ◯
B18: 9 | D18: 日 | P18: =IF(G18=(H18+I18),"◯","×") -> ◯
B19: 10 | D19: 日 | P19: =IF(G19=(H19+I19),"◯","×") -> ◯
B20: 11 | D20: 日 | P20: =IF(G20=(H20+I20),"◯","×") -> ◯
B21: 12 | D21: 日 | P21: =IF(G21=(H21+I21),"◯","×") -> ◯
B22: 13 | D22: 日 | P22: =IF(G22=(H22+I22),"◯","×") -> ◯
... B40: 31 | D40: 日 | P40: =IF(G40=(H40+I40),"◯","×") -> ◯
B41: （注１）クロマグロの混獲の無い場合でも、操業・漁具の修繕等をおこなった場合には管理野帳を記載すること。
B42: （注２）対応方法の欄にはクロマグロの具体的な放流方法を明記すること。
B43: （注３）複数の漁業種類による場合、操業日ごとの漁法を明記すること。
B44: （注４）放流作業に掛かった人数を明記すること。
B45: （注５）放流目回りは、放流したクロマグロに応じた平均目回りを記載すること。
B46: （注６）クロマグロ混獲に伴う漁具の破損状況は、破網した範囲、損傷等した針数・釣糸の長さ等を具体的に記入すること。
B48: 操業 日数 | C48: =COUNTA(C10:C40) -> 0 | G48: =COUNTIF(G10:G40, ">0") -> 0 | H48: (うち混獲あり） | P48: 正誤
F49: 合計 | G49: =SUM(G10:G40) -> 0 | H49: =SUM(H10:H40) -> 0 | I49: =SUM(I10:I40) -> 0 | K49: 混獲 | L49: = 漁獲 | M49: ＋ | N49: 放流 | O49: ➡ | P49: =IF(G49=(H49+I49),"◯","×") -> ◯
G50: 混獲 | H50: 漁獲 | I50: 放流
D51: 平均尾数 | G51: =$G$49/$G$48 -> #DIV/0! | I51: =$I$49/$G$48 -> #DIV/0!
G52: 混獲 | I52: 放流
G53: （混獲の総尾数÷混獲があった日数） | I53: （放流した総尾数÷混獲があった日数）

Sheet R8.5
B1: 別記様式第10－１号別添２
G2: クロマグロ混獲状況管理野帳（漁船漁業） | M2: =+'R8.4'!M2+(1) -> 5
K3: 報告年月： | L3: 8 | N3: 月
K4: 所属漁協： | L4: =+'R8.4'!$L$4 -> ●●漁協
K5: 作成者： | L5: =+'R8.4'!$L$5 -> ●● ●●
K6: 漁船登録番号： | L6: =+'R8.4'!$L$6 -> AA１－１２３４
K7: 漁船名： | L7: =+'R8.4'!$L$7 -> ●●丸
B8: NO. | C8: 作業日 | E8: 操業位置 又は 漁場・海域 | G8: クロマグロ混獲状況 | K8: 主な対象魚種 | L8: 対応方法 | M8: 操業時の漁法 | N8: 放流作業人数 | O8: その他
E9: 緯度 | F9: 経度 | G9: クロマグロ混獲尾数 | H9: うち漁獲尾数 | I9: うち生存放流尾数 | J9: 放流目回り (kg/尾) | P9: 正 誤
B10: 1 | D10: 日 | P10: =IF(G10=(H10+I10),"◯","×") -> ◯
B11: 2 | D11: 日 | P11: =IF(G11=(H11+I11),"◯","×") -> ◯
B12: 3 | D12: 日 | P12: =IF(G12=(H12+I12),"◯","×") -> ◯
B13: 4 | D13: 日 | P13: =IF(G13=(H13+I13),"◯","×") -> ◯
B14: 5 | D14: 日 | P14: =IF(G14=(H14+I14),"◯","×") -> ◯
B15: 6 | D15: 日 | P15: =IF(G15=(H15+I15),"◯","×") -> ◯
B16: 7 | D16: 日 | P16: =IF(G16=(H16+I16),"◯","×") -> ◯
B17: 8 | D17: 日 | P17: =IF(G17=(H17+I17),"◯","×") -> ◯
B18: 9 | D18: 日 | P18: =IF(G18=(H18+I18),"◯","×") -> ◯
B19: 10 | D19: 日 | P19: =IF(G19=(H19+I19),"◯","×") -> ◯
B20: 11 | D20: 日 | P20: =IF(G20=(H20+I20),"◯","×") -> ◯
B21: 12 | D21: 日 | P21: =IF(G21=(H21+I21),"◯","×") -> ◯
... B40: 31 | D40: 日 | P40: =IF(G40=(H40+I40),"◯","×") -> ◯
B41: （注１）クロマグロの混獲の無い場合でも、操業・漁具の修繕等をおこなった場合には管理野帳を記載すること。
B42: （注２）対応方法の欄にはクロマグロの具体的な放流方法を明記すること。
B43: （注３）複数の漁業種類による場合、操業日ごとの漁法を明記すること。
B44: （注４）放流作業に掛かった人数を明記すること。
B45: （注５）放流目回りは、放流したクロマグロに応じた平均目回りを記載すること。
B46: （注６）クロマグロ混獲に伴う漁具の破損状況は、破網した範囲、損傷等した針数・釣糸の長さ等を具体的に記入すること。
B48: 操業 日数 | C48: =COUNTA(C10:C40) -> 0 | G48: =COUNTIF(G10:G40, ">0") -> 0 | H48: (うち混獲あり） | P48: 正誤
F49: 合計 | G49: =SUM(G10:G40) -> 0 | H49: =SUM(H10:H40) -> 0 | I49: =SUM(I10:I40) -> 0 | K49: 混獲 | L49: = 漁獲 | M49: ＋ | N49: 放流 | O49: ➡ | P49: =IF(G49=(H49+I49),"◯","×") -> ◯
G50: 混獲 | H50: 漁獲 | I50: 放流
D51: 平均尾数 | G51: =$G$49/$G$48 -> #DIV/0! | I51: =$I$49/$G$48 -> #DIV/0!
G52: 混獲 | I52: 放流
G53: （混獲の総尾数÷混獲があった日数） | I53: （放流した総尾数÷混獲があった日数）

Sheet R8.6
B1: 別記様式第10－１号別添２
G2: クロマグロ混獲状況管理野帳（漁船漁業） | M2: 6
K3: 報告年月： | L3: 8 | N3: 月
K4: 所属漁協： | L4: =+'R8.4'!$L$4 -> ●●漁協
K5: 作成者： | L5: =+'R8.4'!$L$5 -> ●● ●●
K6: 漁船登録番号： | L6: =+'R8.4'!$L$6 -> AA１－１２３４
K7: 漁船名： | L7: =+'R8.4'!$L$7 -> ●●丸
B8: NO. | C8: 作業日 | E8: 操業位置 又は 漁場・海域 | G8: クロマグロ混獲状況 | K8: 主な対象魚種 | L8: 対応方法 | M8: 操業時の漁法 | N8: 放流作業人数 | O8: その他
E9: 緯度 | F9: 経度 | G9: クロマグロ混獲尾数 | H9: うち漁獲尾数 | I9: うち生存放流尾数 | J9: 放流目回り (kg/尾) | P9: 正 誤
B10: 1 | D10: 日 | P10: =IF(G10=(H10+I10),"◯","×") -> ◯
B11: 2 | D11: 日 | P11: =IF(G11=(H11+I11),"◯","×") -> ◯
B12: 3 | D12: 日 | P12: =IF(G12=(H12+I12),"◯","×") -> ◯
B13: 4 | D13: 日 | P13: =IF(G13=(H13+I13),"◯","×") -> ◯
B14: 5 | D14: 日 | P14: =IF(G14=(H14+I14),"◯","×") -> ◯
B15: 6 | D15: 日 | P15: =IF(G15=(H15+I15),"◯","×") -> ◯
B16: 7 | D16: 日 | P16: =IF(G16=(H16+I16),"◯","×") -> ◯
B17: 8 | D17: 日 | P17: =IF(G17=(H17+I17),"◯","×") -> ◯
B18: 9 | D18: 日 | P18: =IF(G18=(H18+I18),"◯","×") -> ◯
B19: 10 | D19: 日 | P19: =IF(G19=(H19+I19),"◯","×") -> ◯
B20: 11 | D20: 日 | P20: =IF(G20=(H20+I20),"◯","×") -> ◯
B21: 12 | D21: 日 | P21: =IF(G21=(H21+I21),"◯","×") -> ◯
... B40: 31 | D40: 日 | P40: =IF(G40=(H40+I40),"◯","×") -> ◯
B41: （注１）クロマグロの混獲の無い場合でも、操業・漁具の修繕等をおこなった場合には管理野帳を記載すること。
B42: （注２）対応方法の欄にはクロマグロの具体的な放流方法を明記すること。
B43: （注３）複数の漁業種類による場合、操業日ごとの漁法を明記すること。
B44: （注４）放流作業に掛かった人数を明記すること。
B45: （注５）放流目回りは、放流したクロマグロに応じた平均目回りを記載すること。
B46: （注６）クロマグロ混獲に伴う漁具の破損状況は、破網した範囲、損傷等した針数・釣糸の長さ等を具体的に記入すること。
B48: 操業 日数 | C48: =COUNTA(C10:C40) -> 0 | G48: =COUNTIF(G10:G40, ">0") -> 0 | H48: (うち混獲あり） | P48: 正誤
F49: 合計 | G49: =SUM(G10:G40) -> 0 | H49: =SUM(H10:H40) -> 0 | I49: =SUM(I10:I40) -> 0 | K49: 混獲 | L49: = 漁獲 | M49: ＋ | N49: 放流 | O49: ➡ | P49: =IF(G49=(H49+I49),"◯","×") -> ◯
G50: 混獲 | H50: 漁獲 | I50: 放流
D51: 平均尾数 | G51: =$G$49/$G$48 -> #DIV/0! | I51: =$I$49/$G$48 -> #DIV/0!
G52: 混獲 | I52: 放流
G53: （混獲の総尾数÷混獲があった日数） | I53: （放流した総尾数÷混獲があった日数）

Sheet R8.7
B1: 別記様式第10－１号別添２
G2: クロマグロ混獲状況管理野帳（漁船漁業） | M2: 7
K3: 報告年月： | L3: 8 | N3: 月
K4: 所属漁協： | L4: =+'R8.4'!$L$4 -> ●●漁協
K5: 作成者： | L5: =+'R8.4'!$L$5 -> ●● ●●
K6: 漁船登録番号： | L6: =+'R8.4'!$L$6 -> AA１－１２３４
K7: 漁船名： | L7: =+'R8.4'!$L$7 -> ●●丸
B8: NO. | C8: 作業日 | E8: 操業位置 又は 漁場・海域 | G8: クロマグロ混獲状況 | K8: 主な対象魚種 | L8: 対応方法 | M8: 操業時の漁法 | N8: 放流作業人数 | O8: その他
E9: 緯度 | F9: 経度 | G9: クロマグロ混獲尾数 | H9: うち漁獲尾数 | I9: うち生存放流尾数 | J9: 放流目回り (kg/尾) | P9: 正 誤
B10: 1 | D10: 日 | P10: =IF(G10=(H10+I10),"◯","×") -> ◯
B11: 2 | D11: 日 | P11: =IF(G11=(H11+I11),"◯","×") -> ◯
B12: 3 | D12: 日 | P12: =IF(G12=(H12+I12),"◯","×") -> ◯
B13: 4 | D13: 日 | P13: =IF(G13=(H13+I13),"◯","×") -> ◯
B14: 5 | D14: 日 | P14: =IF(G14=(H14+I14),"◯","×") -> ◯
B15: 6 | D15: 日 | P15: =IF(G15=(H15+I15),"◯","×") -> ◯
B16: 7 | D16: 日 | P16: =IF(G16=(H16+I16),"◯","×") -> ◯
B17: 8 | D17: 日 | P17: =IF(G17=(H17+I17),"◯","×") -> ◯
B18: 9 | D18: 日 | P18: =IF(G18=(H18+I18),"◯","×") -> ◯
B19: 10 | D19: 日 | P19: =IF(G19=(H19+I19),"◯","×") -> ◯
B20: 11 | D20: 日 | P20: =IF(G20=(H20+I20),"◯","×") -> ◯
B21: 12 | D21: 日 | P21: =IF(G21=(H21+I21),"◯","×") -> ◯
... B40: 31 | D40: 日 | P40: =IF(G40=(H40+I40),"◯","×") -> ◯
B41: （注１）クロマグロの混獲の無い場合でも、操業・漁具の修繕等をおこなった場合には管理野帳を記載すること。
B42: （注２）対応方法の欄にはクロマグロの具体的な放流方法を明記すること。
B43: （注３）複数の漁業種類による場合、操業日ごとの漁法を明記すること。
B44: （注４）放流作業に掛かった人数を明記すること。
B45: （注５）放流目回りは、放流したクロマグロに応じた平均目回りを記載すること。
B46: （注６）クロマグロ混獲に伴う漁具の破損状況は、破網した範囲、損傷等した針数・釣糸の長さ等を具体的に記入すること。
B48: 操業 日数 | C48: =COUNTA(C10:C40) -> 0 | G48: =COUNTIF(G10:G40, ">0") -> 0 | H48: (うち混獲あり） | P48: 正誤
F49: 合計 | G49: =SUM(G10:G40) -> 0 | H49: =SUM(H10:H40) -> 0 | I49: =SUM(I10:I40) -> 0 | K49: 混獲 | L49: = 漁獲 | M49: ＋ | N49: 放流 | O49: ➡ | P49: =IF(G49=(H49+I49),"◯","×") -> ◯
G50: 混獲 | H50: 漁獲 | I50: 放流
D51: 平均尾数 | G51: =$G$49/$G$48 -> #DIV/0! | I51: =$I$49/$G$48 -> #DIV/0!
G52: 混獲 | I52: 放流
G53: （混獲の総尾数÷混獲があった日数） | I53: （放流した総尾数÷混獲があった日数）

Sheet R8.8
B1: 別記様式第10－１号別添２
G2: クロマグロ混獲状況管理野帳（漁船漁業） | M2: 8
K3: 報告年月： | L3: 8 | N3: 月
K4: 所属漁協： | L4: =+'R8.4'!$L$4 -> ●●漁協
K5: 作成者： | L5: =+'R8.4'!$L$5 -> ●● ●●
K6: 漁船登録番号： | L6: =+'R8.4'!$L$6 -> AA１－１２３４
K7: 漁船名： | L7: =+'R8.4'!$L$7 -> ●●丸
B8: NO. | C8: 作業日 | E8: 操業位置 又は 漁場・海域 | G8: クロマグロ混獲状況 | K8: 主な対象魚種 | L8: 対応方法 | M8: 操業時の漁法 | N8: 放流作業人数 | O8: その他
E9: 緯度 | F9: 経度 | G9: クロマグロ混獲尾数 | H9: うち漁獲尾数 | I9: うち生存放流尾数 | J9: 放流目回り (kg/尾) | P9: 正 誤
B10: 1 | D10: 日 | P10: =IF(G10=(H10+I10),"◯","×") -> ◯
B11: 2 | D11: 日 | P11: =IF(G11=(H11+I11),"◯","×") -> ◯
B12: 3 | D12: 日 | P12: =IF(G12=(H12+I12),"◯","×") -> ◯
B13: 4 | D13: 日 | P13: =IF(G13=(H13+I13),"◯","×") -> ◯
B14: 5 | D14: 日 | P14: =IF(G14=(H14+I14),"◯","×") -> ◯
B15: 6 | D15: 日 | P15: =IF(G15=(H15+I15),"◯","×") -> ◯
B16: 7 | D16: 日 | P16: =IF(G16=(H16+I16),"◯","×") -> ◯
B17: 8 | D17: 日 | P17: =IF(G17=(H17+I17),"◯","×") -> ◯
B18: 9 | D18: 日 | P18: =IF(G18=(H18+I18),"◯","×") -> ◯
B19: 10 | D19: 日 | P19: =IF(G19=(H19+I19),"◯","×") -> ◯
B20: 11 | D20: 日 | P20: =IF(G20=(H20+I20),"◯","×") -> ◯
B21: 12 | D21: 日 | P21: =IF(G21=(H21+I21),"◯","×") -> ◯
... B40: 31 | D40: 日 | P40: =IF(G40=(H40+I40),"◯","×") -> ◯
B41: （注１）クロマグロの混獲の無い場合でも、操業・漁具の修繕等をおこなった場合には管理野帳を記載すること。
B42: （注２）対応方法の欄にはクロマグロの具体的な放流方法を明記すること。
B43: （注３）複数の漁業種類による場合、操業日ごとの漁法を明記すること。
B44: （注４）放流作業に掛かった人数を明記すること。
B45: （注５）放流目回りは、放流したクロマグロに応じた平均目回りを記載すること。
B46: （注６）クロマグロ混獲に伴う漁具の破損状況は、破網した範囲、損傷等した針数・釣糸の長さ等を具体的に記入すること。
B48: 操業 日数 | C48: =COUNTA(C10:C40) -> 0 | G48: =COUNTIF(G10:G40, ">0") -> 0 | H48: (うち混獲あり） | P48: 正誤
F49: 合計 | G49: =SUM(G10:G40) -> 0 | H49: =SUM(H10:H40) -> 0 | I49: =SUM(I10:I40) -> 0 | K49: 混獲 | L49: = 漁獲 | M49: ＋ | N49: 放流 | O49: ➡ | P49: =IF(G49=(H49+I49),"◯","×") -> ◯
G50: 混獲 | H50: 漁獲 | I50: 放流
D51: 平均尾数 | G51: =$G$49/$G$48 -> #DIV/0! | I51: =$I$49/$G$48 -> #DIV/0!
G52: 混獲 | I52: 放流
G53: （混獲の総尾数÷混獲があった日数） | I53: （放流した総尾数÷混獲があった日数）

Sheet 別紙（破損状況）
B1: 別紙（クロマグロ混獲に伴う漁具の破損状況）
E2: 令和●年度 クロマグロ混獲回避活動支援事業
D3: ●●漁業者グループ
D4: （定置網名／漁船名）
B5: № | C5: 操業 月日 | D5: 漁具の破損状況 ※漁具修繕の作業内容 | E5: 添 付 資 料 ※写真・領収書
B6: 1 | C6: ▲/20 | E6: 有 ・ 無
B7: 2 | E7: 有 ・ 無
B8: 3 | E8: 有 ・ 無
B9: 4 | E9: 有 ・ 無
B10: 5 | E10: 有 ・ 無
B11: 6 | E11: 有 ・ 無
B12: 7 | E12: 有 ・ 無
B13: 8 | E13: 有 ・ 無
B14: 9 | E14: 有 ・ 無
B15: 10 | E15: 有 ・ 無
B16: 11 | E16: 有 ・ 無

Sheet 添付資料（写真）
B1: 添付資料（写真資料） | F1: 令和●年度 クロマグロ混獲回避活動支援事業
D2: ●●漁業者グループ
D3: （定置網名／漁船名）
B4: № | C4: 操業 月日 | D4: 漁具の修繕（前） ※破損状況 | E4: ※漁具の修繕作業を行った場合には 作業の様子（写真）を貼付 | F4: 漁具の修繕（後） ※修繕した結果
B5: 1 | C5: ▲/20 | D5: 写真 （日付入り） | E5: 写真 （日付入り） | F5: 写真 （日付入り）
B6: 2 | D6: 写真 （日付入り） | E6: 写真 （日付入り） | F6: 写真 （日付入り）
B7: 3 | D7: 写真 （日付入り） | E7: 写真 （日付入り） | F7: 写真 （日付入り）
B8: 4 | D8: 写真 （日付入り） | E8: 写真 （日付入り） | F8: 写真 （日付入り）
B9: 5 | D9: 写真 （日付入り） | E9: 写真 （日付入り） | F9: 写真 （日付入り）
B10: 6 | D10: 写真 （日付入り） | E10: 写真 （日付入り） | F10: 写真 （日付入り）
B11: 7 | D11: 写真 （日付入り） | E11: 写真 （日付入り） | F11: 写真 （日付入り）
B12: 8 | D12: 写真 （日付入り） | E12: 写真 （日付入り） | F12: 写真 （日付入り）
B13: 9 | D13: 写真 （日付入り） | E13: 写真 （日付入り） | F13: 写真 （日付入り）
B14: 10 | D14: 写真 （日付入り） | E14: 写真 （日付入り） | F14: 写真 （日付入り）
B15: 11 | D15: 写真 （日付入り） | E15: 写真 （日付入り） | F15: 写真 （日付入り）

Sheet R8.9（漁具修繕追加）
B1: 別記様式第10－１号別添２
G2: クロマグロ混獲状況管理野帳（漁船漁業） | N2: 9
L3: 報告年月： | M3: 8 | O3: 月
L4: 所属漁協： | M4: =+'R8.4'!$L$4 -> ●●漁協
L5: 作成者： | M5: =+'R8.4'!$L$5 -> ●● ●●
L6: 漁船登録番号： | M6: =+'R8.4'!$L$6 -> AA１－１２３４
L7: 漁船名： | M7: =+'R8.4'!$L$7 -> ●●丸
B8: NO. | C8: 作業日 | E8: 操業位置 又は 漁場・海域 | G8: クロマグロ混獲状況 | L8: 主な対象魚種 | M8: 対応方法 | N8: 操業時の漁法 | O8: 放流作業人数 | P8: 漁具修繕に要した人数 | Q8: その他
E9: 緯度 | F9: 経度 | G9: クロマグロ混獲尾数 | H9: うち漁獲尾数 | I9: うち生存放流尾数 | J9: 放流目回り (kg/尾) | K9: クロマグロ混獲に伴う漁具の破損状況 | R9: 正 誤
B10: 1 | D10: 日 | R10: =IF(G10=(H10+I10),"◯","×") -> ◯
B11: 2 | D11: 日 | R11: =IF(G11=(H11+I11),"◯","×") -> ◯
B12: 3 | D12: 日 | R12: =IF(G12=(H12+I12),"◯","×") -> ◯
B13: 4 | D13: 日 | R13: =IF(G13=(H13+I13),"◯","×") -> ◯
B14: 5 | D14: 日 | R14: =IF(G14=(H14+I14),"◯","×") -> ◯
B15: 6 | D15: 日 | R15: =IF(G15=(H15+I15),"◯","×") -> ◯
B16: 7 | D16: 日 | R16: =IF(G16=(H16+I16),"◯","×") -> ◯
B17: 8 | D17: 日 | R17: =IF(G17=(H17+I17),"◯","×") -> ◯
B18: 9 | D18: 日 | R18: =IF(G18=(H18+I18),"◯","×") -> ◯
B19: 10 | D19: 日 | R19: =IF(G19=(H19+I19),"◯","×") -> ◯
B20: 11 | D20: 日 | R20: =IF(G20=(H20+I20),"◯","×") -> ◯
B21: 12 | D21: 日 | R21: =IF(G21=(H21+I21),"◯","×") -> ◯
... B40: 31 | D40: 日 | R40: =IF(G40=(H40+I40),"◯","×") -> ◯
B41: （注１）クロマグロの混獲の無い場合でも、操業・漁具の修繕等をおこなった場合には管理野帳を記載すること。
B42: （注２）対応方法の欄にはクロマグロの具体的な放流方法を明記すること。
B43: （注３）複数の漁業種類による場合、操業日ごとの漁法を明記すること。
B44: （注４）放流作業に掛かった人数を明記すること。
B45: （注５）放流目回りは、放流したクロマグロに応じた平均目回りを記載すること。
B46: （注６）クロマグロ混獲に伴う漁具の破損状況は、破網した範囲、損傷等した針数・釣糸の長さ等を具体的に記入すること。
B48: 操業 日数 | C48: =COUNTA(C10:C40) -> 0 | G48: =COUNTIF(G10:G40, ">0") -> 0 | H48: (うち混獲あり） | R48: 正誤
F49: 合計 | G49: =SUM(G10:G40) -> 0 | H49: =SUM(H10:H40) -> 0 | I49: =SUM(I10:I40) -> 0 | L49: 混獲 | M49: = 漁獲 | N49: ＋ | O49: 放流 | Q49: ➡ | R49: =IF(G49=(H49+I49),"◯","×") -> ◯
G50: 混獲 | H50: 漁獲 | I50: 放流
D51: 平均尾数 | G51: =$G$49/$G$48 -> #DIV/0! | I51: =$I$49/$G$48 -> #DIV/0! | O51: ※漁具修繕 | P51: =IF(COUNT(P10:P40)>0,"有","")
G52: 混獲 | I52: 放流
G53: （混獲の総尾数÷混獲があった日数） | I53: （放流した総尾数÷混獲があった日数）

Sheet R8.10
B1: 別記様式第10－１号別添２
G2: クロマグロ混獲状況管理野帳（漁船漁業） | N2: 10
L3: 報告年月： | M3: 8 | O3: 月
L4: 所属漁協： | M4: =+'R8.4'!$L$4 -> ●●漁協
L5: 作成者： | M5: =+'R8.4'!$L$5 -> ●● ●●
L6: 漁船登録番号： | M6: =+'R8.4'!$L$6 -> AA１－１２３４
L7: 漁船名： | M7: =+'R8.4'!$L$7 -> ●●丸
B8: NO. | C8: 作業日 | E8: 操業位置 又は 漁場・海域 | G8: クロマグロ混獲状況 | L8: 主な対象魚種 | M8: 対応方法 | N8: 操業時の漁法 | O8: 放流作業人数 | P8: 漁具修繕に要した人数 | Q8: その他
E9: 緯度 | F9: 経度 | G9: クロマグロ混獲尾数 | H9: うち漁獲尾数 | I9: うち生存放流尾数 | J9: 放流目回り (kg/尾) | K9: クロマグロ混獲に伴う漁具の破損状況 | R9: 正 誤
B10: 1 | D10: 日 | R10: =IF(G10=(H10+I10),"◯","×") -> ◯
B11: 2 | D11: 日 | R11: =IF(G11=(H11+I11),"◯","×") -> ◯
B12: 3 | D12: 日 | R12: =IF(G12=(H12+I12),"◯","×") -> ◯
B13: 4 | D13: 日 | R13: =IF(G13=(H13+I13),"◯","×") -> ◯
B14: 5 | D14: 日 | R14: =IF(G14=(H14+I14),"◯","×") -> ◯
B15: 6 | D15: 日 | R15: =IF(G15=(H15+I15),"◯","×") -> ◯
B16: 7 | D16: 日 | R16: =IF(G16=(H16+I16),"◯","×") -> ◯
B17: 8 | D17: 日 | R17: =IF(G17=(H17+I17),"◯","×") -> ◯
B18: 9 | D18: 日 | R18: =IF(G18=(H18+I18),"◯","×") -> ◯
B19: 10 | D19: 日 | R19: =IF(G19=(H19+I19),"◯","×") -> ◯
B20: 11 | D20: 日 | R20: =IF(G20=(H20+I20),"◯","×") -> ◯
B21: 12 | D21: 日 | R21: =IF(G21=(H21+I21),"◯","×") -> ◯
... B40: 31 | D40: 日 | R40: =IF(G40=(H40+I40),"◯","×") -> ◯
B41: （注１）クロマグロの混獲の無い場合でも、操業・漁具の修繕等をおこなった場合には管理野帳を記載すること。
B42: （注２）対応方法の欄にはクロマグロの具体的な放流方法を明記すること。
B43: （注３）複数の漁業種類による場合、操業日ごとの漁法を明記すること。
B44: （注４）放流作業に掛かった人数を明記すること。
B45: （注５）放流目回りは、放流したクロマグロに応じた平均目回りを記載すること。
B46: （注６）クロマグロ混獲に伴う漁具の破損状況は、破網した範囲、損傷等した針数・釣糸の長さ等を具体的に記入すること。
B48: 操業 日数 | C48: =COUNTA(C10:C40) -> 0 | G48: =COUNTIF(G10:G40, ">0") -> 0 | H48: (うち混獲あり） | R48: 正誤
F49: 合計 | G49: =SUM(G10:G40) -> 0 | H49: =SUM(H10:H40) -> 0 | I49: =SUM(I10:I40) -> 0 | L49: 混獲 | M49: = 漁獲 | N49: ＋ | O49: 放流 | Q49: ➡ | R49: =IF(G49=(H49+I49),"◯","×") -> ◯
G50: 混獲 | H50: 漁獲 | I50: 放流
D51: 平均尾数 | G51: =$G$49/$G$48 -> #DIV/0! | I51: =$I$49/$G$48 -> #DIV/0! | O51: ※漁具修繕 | P51: =IF(COUNT(P10:P40)>0,"有","")
G52: 混獲 | I52: 放流
G53: （混獲の総尾数÷混獲があった日数） | I53: （放流した総尾数÷混獲があった日数）

Sheet R8.11
B1: 別記様式第10－１号別添２
G2: クロマグロ混獲状況管理野帳（漁船漁業） | N2: 11
L3: 報告年月： | M3: 8 | O3: 月
L4: 所属漁協： | M4: =+'R8.4'!$L$4 -> ●●漁協
L5: 作成者： | M5: =+'R8.4'!$L$5 -> ●● ●●
L6: 漁船登録番号： | M6: =+'R8.4'!$L$6 -> AA１－１２３４
L7: 漁船名： | M7: =+'R8.4'!$L$7 -> ●●丸
B8: NO. | C8: 作業日 | E8: 操業位置 又は 漁場・海域 | G8: クロマグロ混獲状況 | L8: 主な対象魚種 | M8: 対応方法 | N8: 操業時の漁法 | O8: 放流作業人数 | P8: 漁具修繕に要した人数 | Q8: その他
E9: 緯度 | F9: 経度 | G9: クロマグロ混獲尾数 | H9: うち漁獲尾数 | I9: うち生存放流尾数 | J9: 放流目回り (kg/尾) | K9: クロマグロ混獲に伴う漁具の破損状況 | R9: 正 誤
B10: 1 | D10: 日 | R10: =IF(G10=(H10+I10),"◯","×") -> ◯
B11: 2 | D11: 日 | R11: =IF(G11=(H11+I11),"◯","×") -> ◯
B12: 3 | D12: 日 | R12: =IF(G12=(H12+I12),"◯","×") -> ◯
B13: 4 | D13: 日 | R13: =IF(G13=(H13+I13),"◯","×") -> ◯
B14: 5 | D14: 日 | R14: =IF(G14=(H14+I14),"◯","×") -> ◯
B15: 6 | D15: 日 | R15: =IF(G15=(H15+I15),"◯","×") -> ◯
B16: 7 | D16: 日 | R16: =IF(G16=(H16+I16),"◯","×") -> ◯
B17: 8 | D17: 日 | R17: =IF(G17=(H17+I17),"◯","×") -> ◯
B18: 9 | D18: 日 | R18: =IF(G18=(H18+I18),"◯","×") -> ◯
B19: 10 | D19: 日 | R19: =IF(G19=(H19+I19),"◯","×") -> ◯
B20: 11 | D20: 日 | R20: =IF(G20=(H20+I20),"◯","×") -> ◯
B21: 12 | D21: 日 | R21: =IF(G21=(H21+I21),"◯","×") -> ◯
... B40: 31 | D40: 日 | R40: =IF(G40=(H40+I40),"◯","×") -> ◯
B41: （注１）クロマグロの混獲の無い場合でも、操業・漁具の修繕等をおこなった場合には管理野帳を記載すること。
B42: （注２）対応方法の欄にはクロマグロの具体的な放流方法を明記すること。
B43: （注３）複数の漁業種類による場合、操業日ごとの漁法を明記すること。
B44: （注４）放流作業に掛かった人数を明記すること。
B45: （注５）放流目回りは、放流したクロマグロに応じた平均目回りを記載すること。
B46: （注６）クロマグロ混獲に伴う漁具の破損状況は、破網した範囲、損傷等した針数・釣糸の長さ等を具体的に記入すること。
B48: 操業 日数 | C48: =COUNTA(C10:C40) -> 0 | G48: =COUNTIF(G10:G40, ">0") -> 0 | H48: (うち混獲あり） | R48: 正誤
F49: 合計 | G49: =SUM(G10:G40) -> 0 | H49: =SUM(H10:H40) -> 0 | I49: =SUM(I10:I40) -> 0 | L49: 混獲 | M49: = 漁獲 | N49: ＋ | O49: 放流 | Q49: ➡ | R49: =IF(G49=(H49+I49),"◯","×") -> ◯
G50: 混獲 | H50: 漁獲 | I50: 放流
D51: 平均尾数 | G51: =$G$49/$G$48 -> #DIV/0! | I51: =$I$49/$G$48 -> #DIV/0! | O51: ※漁具修繕 | P51: =IF(COUNT(P10:P40)>0,"有","")
G52: 混獲 | I52: 放流
G53: （混獲の総尾数÷混獲があった日数） | I53: （放流した総尾数÷混獲があった日数）

Sheet R8.12
B1: 別記様式第10－１号別添２
G2: クロマグロ混獲状況管理野帳（漁船漁業） | N2: 12
L3: 報告年月： | M3: 8 | O3: 月
L4: 所属漁協： | M4: =+'R8.4'!$L$4 -> ●●漁協
L5: 作成者： | M5: =+'R8.4'!$L$5 -> ●● ●●
L6: 漁船登録番号： | M6: =+'R8.4'!$L$6 -> AA１－１２３４
L7: 漁船名： | M7: =+'R8.4'!$L$7 -> ●●丸
B8: NO. | C8: 作業日 | E8: 操業位置 又は 漁場・海域 | G8: クロマグロ混獲状況 | L8: 主な対象魚種 | M8: 対応方法 | N8: 操業時の漁法 | O8: 放流作業人数 | P8: 漁具修繕に要した人数 | Q8: その他
E9: 緯度 | F9: 経度 | G9: クロマグロ混獲尾数 | H9: うち漁獲尾数 | I9: うち生存放流尾数 | J9: 放流目回り (kg/尾) | K9: クロマグロ混獲に伴う漁具の破損状況 | R9: 正 誤
B10: 1 | D10: 日 | R10: =IF(G10=(H10+I10),"◯","×") -> ◯
B11: 2 | D11: 日 | R11: =IF(G11=(H11+I11),"◯","×") -> ◯
B12: 3 | D12: 日 | R12: =IF(G12=(H12+I12),"◯","×") -> ◯
B13: 4 | D13: 日 | R13: =IF(G13=(H13+I13),"◯","×") -> ◯
B14: 5 | D14: 日 | R14: =IF(G14=(H14+I14),"◯","×") -> ◯
B15: 6 | D15: 日 | R15: =IF(G15=(H15+I15),"◯","×") -> ◯
B16: 7 | D16: 日 | R16: =IF(G16=(H16+I16),"◯","×") -> ◯
B17: 8 | D17: 日 | R17: =IF(G17=(H17+I17),"◯","×") -> ◯
B18: 9 | D18: 日 | R18: =IF(G18=(H18+I18),"◯","×") -> ◯
B19: 10 | D19: 日 | R19: =IF(G19=(H19+I19),"◯","×") -> ◯
B20: 11 | D20: 日 | R20: =IF(G20=(H20+I20),"◯","×") -> ◯
B21: 12 | D21: 日 | R21: =IF(G21=(H21+I21),"◯","×") -> ◯
... B40: 31 | D40: 日 | R40: =IF(G40=(H40+I40),"◯","×") -> ◯
B41: （注１）クロマグロの混獲の無い場合でも、操業・漁具の修繕等をおこなった場合には管理野帳を記載すること。
B42: （注２）対応方法の欄にはクロマグロの具体的な放流方法を明記すること。
B43: （注３）複数の漁業種類による場合、操業日ごとの漁法を明記すること。
B44: （注４）放流作業に掛かった人数を明記すること。
B45: （注５）放流目回りは、放流したクロマグロに応じた平均目回りを記載すること。
B46: （注６）クロマグロ混獲に伴う漁具の破損状況は、破網した範囲、損傷等した針数・釣糸の長さ等を具体的に記入すること。
B48: 操業 日数 | C48: =COUNTA(C10:C40) -> 0 | G48: =COUNTIF(G10:G40, ">0") -> 0 | H48: (うち混獲あり） | R48: 正誤
F49: 合計 | G49: =SUM(G10:G40) -> 0 | H49: =SUM(H10:H40) -> 0 | I49: =SUM(I10:I40) -> 0 | L49: 混獲 | M49: = 漁獲 | N49: ＋ | O49: 放流 | Q49: ➡ | R49: =IF(G49=(H49+I49),"◯","×") -> ◯
G50: 混獲 | H50: 漁獲 | I50: 放流
D51: 平均尾数 | G51: =$G$49/$G$48 -> #DIV/0! | I51: =$I$49/$G$48 -> #DIV/0! | O51: ※漁具修繕 | P51: =IF(COUNT(P10:P40)>0,"有","")
G52: 混獲 | I52: 放流
G53: （混獲の総尾数÷混獲があった日数） | I53: （放流した総尾数÷混獲があった日数）

Sheet R9.1
B1: 別記様式第10－１号別添２
G2: クロマグロ混獲状況管理野帳（漁船漁業） | N2: 1
L3: 報告年月： | M3: 9 | O3: 月
L4: 所属漁協： | M4: =+'R8.4'!$L$4 -> ●●漁協
L5: 作成者： | M5: =+'R8.4'!$L$5 -> ●● ●●
L6: 漁船登録番号： | M6: =+'R8.4'!$L$6 -> AA１－１２３４
L7: 漁船名： | M7: =+'R8.4'!$L$7 -> ●●丸
B8: NO. | C8: 作業日 | E8: 操業位置 又は 漁場・海域 | G8: クロマグロ混獲状況 | L8: 主な対象魚種 | M8: 対応方法 | N8: 操業時の漁法 | O8: 放流作業人数 | P8: 漁具修繕に要した人数 | Q8: その他
E9: 緯度 | F9: 経度 | G9: クロマグロ混獲尾数 | H9: うち漁獲尾数 | I9: うち生存放流尾数 | J9: 放流目回り (kg/尾) | K9: クロマグロ混獲に伴う漁具の破損状況 | R9: 正 誤
B10: 1 | D10: 日 | R10: =IF(G10=(H10+I10),"◯","×") -> ◯
B11: 2 | D11: 日 | R11: =IF(G11=(H11+I11),"◯","×") -> ◯
B12: 3 | D12: 日 | R12: =IF(G12=(H12+I12),"◯","×") -> ◯
B13: 4 | D13: 日 | R13: =IF(G13=(H13+I13),"◯","×") -> ◯
B14: 5 | D14: 日 | R14: =IF(G14=(H14+I14),"◯","×") -> ◯
B15: 6 | D15: 日 | R15: =IF(G15=(H15+I15),"◯","×") -> ◯
B16: 7 | D16: 日 | R16: =IF(G16=(H16+I16),"◯","×") -> ◯
B17: 8 | D17: 日 | R17: =IF(G17=(H17+I17),"◯","×") -> ◯
B18: 9 | D18: 日 | R18: =IF(G18=(H18+I18),"◯","×") -> ◯
B19: 10 | D19: 日 | R19: =IF(G19=(H19+I19),"◯","×") -> ◯
B20: 11 | D20: 日 | R20: =IF(G20=(H20+I20),"◯","×") -> ◯
B21: 12 | D21: 日 | R21: =IF(G21=(H21+I21),"◯","×") -> ◯
... B40: 31 | D40: 日 | R40: =IF(G40=(H40+I40),"◯","×") -> ◯
B41: （注１）クロマグロの混獲の無い場合でも、操業・漁具の修繕等をおこなった場合には管理野帳を記載すること。
B42: （注２）対応方法の欄にはクロマグロの具体的な放流方法を明記すること。
B43: （注３）複数の漁業種類による場合、操業日ごとの漁法を明記すること。
B44: （注４）放流作業に掛かった人数を明記すること。
B45: （注５）放流目回りは、放流したクロマグロに応じた平均目回りを記載すること。
B46: （注６）クロマグロ混獲に伴う漁具の破損状況は、破網した範囲、損傷等した針数・釣糸の長さ等を具体的に記入すること。
B48: 操業 日数 | C48: =COUNTA(C10:C40) -> 0 | G48: =COUNTIF(G10:G40, ">0") -> 0 | H48: (うち混獲あり） | R48: 正誤
F49: 合計 | G49: =SUM(G10:G40) -> 0 | H49: =SUM(H10:H40) -> 0 | I49: =SUM(I10:I40) -> 0 | L49: 混獲 | M49: = 漁獲 | N49: ＋ | O49: 放流 | Q49: ➡ | R49: =IF(G49=(H49+I49),"◯","×") -> ◯
G50: 混獲 | H50: 漁獲 | I50: 放流
D51: 平均尾数 | G51: =$G$49/$G$48 -> #DIV/0! | I51: =$I$49/$G$48 -> #DIV/0! | O51: ※漁具修繕 | P51: =IF(COUNT(P10:P40)>0,"有","")
G52: 混獲 | I52: 放流
G53: （混獲の総尾数÷混獲があった日数） | I53: （放流した総尾数÷混獲があった日数）

Sheet R9.2
B1: 別記様式第10－１号別添２
G2: クロマグロ混獲状況管理野帳（漁船漁業） | N2: 2
L3: 報告年月： | M3: 9 | O3: 月
L4: 所属漁協： | M4: =+'R8.4'!$L$4 -> ●●漁協
L5: 作成者： | M5: =+'R8.4'!$L$5 -> ●● ●●
L6: 漁船登録番号： | M6: =+'R8.4'!$L$6 -> AA１－１２３４
L7: 漁船名： | M7: =+'R8.4'!$L$7 -> ●●丸
B8: NO. | C8: 作業日 | E8: 操業位置 又は 漁場・海域 | G8: クロマグロ混獲状況 | L8: 主な対象魚種 | M8: 対応方法 | N8: 操業時の漁法 | O8: 放流作業人数 | P8: 漁具修繕に要した人数 | Q8: その他
E9: 緯度 | F9: 経度 | G9: クロマグロ混獲尾数 | H9: うち漁獲尾数 | I9: うち生存放流尾数 | J9: 放流目回り (kg/尾) | K9: クロマグロ混獲に伴う漁具の破損状況 | R9: 正 誤
B10: 1 | D10: 日 | R10: =IF(G10=(H10+I10),"◯","×") -> ◯
B11: 2 | D11: 日 | R11: =IF(G11=(H11+I11),"◯","×") -> ◯
B12: 3 | D12: 日 | R12: =IF(G12=(H12+I12),"◯","×") -> ◯
B13: 4 | D13: 日 | R13: =IF(G13=(H13+I13),"◯","×") -> ◯
B14: 5 | D14: 日 | R14: =IF(G14=(H14+I14),"◯","×") -> ◯
B15: 6 | D15: 日 | R15: =IF(G15=(H15+I15),"◯","×") -> ◯
B16: 7 | D16: 日 | R16: =IF(G16=(H16+I16),"◯","×") -> ◯
B17: 8 | D17: 日 | R17: =IF(G17=(H17+I17),"◯","×") -> ◯
B18: 9 | D18: 日 | R18: =IF(G18=(H18+I18),"◯","×") -> ◯
B19: 10 | D19: 日 | R19: =IF(G19=(H19+I19),"◯","×") -> ◯
B20: 11 | D20: 日 | R20: =IF(G20=(H20+I20),"◯","×") -> ◯
B21: 12 | D21: 日 | R21: =IF(G21=(H21+I21),"◯","×") -> ◯
... B40: 31 | D40: 日 | R40: =IF(G40=(H40+I40),"◯","×") -> ◯
B41: （注１）クロマグロの混獲の無い場合でも、操業・漁具の修繕等をおこなった場合には管理野帳を記載すること。
B42: （注２）対応方法の欄にはクロマグロの具体的な放流方法を明記すること。
B43: （注３）複数の漁業種類による場合、操業日ごとの漁法を明記すること。
B44: （注４）放流作業に掛かった人数を明記すること。
B45: （注５）放流目回りは、放流したクロマグロに応じた平均目回りを記載すること。
B46: （注６）クロマグロ混獲に伴う漁具の破損状況は、破網した範囲、損傷等した針数・釣糸の長さ等を具体的に記入すること。
B48: 操業 日数 | C48: =COUNTA(C10:C40) -> 0 | G48: =COUNTIF(G10:G40, ">0") -> 0 | H48: (うち混獲あり） | R48: 正誤
F49: 合計 | G49: =SUM(G10:G40) -> 0 | H49: =SUM(H10:H40) -> 0 | I49: =SUM(I10:I40) -> 0 | L49: 混獲 | M49: = 漁獲 | N49: ＋ | O49: 放流 | Q49: ➡ | R49: =IF(G49=(H49+I49),"◯","×") -> ◯
G50: 混獲 | H50: 漁獲 | I50: 放流
D51: 平均尾数 | G51: =$G$49/$G$48 -> #DIV/0! | I51: =$I$49/$G$48 -> #DIV/0! | O51: ※漁具修繕 | P51: =IF(COUNT(P10:P40)>0,"有","")
G52: 混獲 | I52: 放流
G53: （混獲の総尾数÷混獲があった日数） | I53: （放流した総尾数÷混獲があった日数）

Sheet R9.3
B1: 別記様式第10－１号別添２
G2: クロマグロ混獲状況管理野帳（漁船漁業） | N2: 3
L3: 報告年月： | M3: 9 | O3: 月
L4: 所属漁協： | M4: =+'R8.4'!$L$4 -> ●●漁協
L5: 作成者： | M5: =+'R8.4'!$L$5 -> ●● ●●
L6: 漁船登録番号： | M6: =+'R8.4'!$L$6 -> AA１－１２３４
L7: 漁船名： | M7: =+'R8.4'!$L$7 -> ●●丸
B8: NO. | C8: 作業日 | E8: 操業位置 又は 漁場・海域 | G8: クロマグロ混獲状況 | L8: 主な対象魚種 | M8: 対応方法 | N8: 操業時の漁法 | O8: 放流作業人数 | P8: 漁具修繕に要した人数 | Q8: その他
E9: 緯度 | F9: 経度 | G9: クロマグロ混獲尾数 | H9: うち漁獲尾数 | I9: うち生存放流尾数 | J9: 放流目回り (kg/尾) | K9: クロマグロ混獲に伴う漁具の破損状況 | R9: 正 誤
B10: 1 | D10: 日 | R10: =IF(G10=(H10+I10),"◯","×") -> ◯
B11: 2 | D11: 日 | R11: =IF(G11=(H11+I11),"◯","×") -> ◯
B12: 3 | D12: 日 | R12: =IF(G12=(H12+I12),"◯","×") -> ◯
B13: 4 | D13: 日 | R13: =IF(G13=(H13+I13),"◯","×") -> ◯
B14: 5 | D14: 日 | R14: =IF(G14=(H14+I14),"◯","×") -> ◯
B15: 6 | D15: 日 | R15: =IF(G15=(H15+I15),"◯","×") -> ◯
B16: 7 | D16: 日 | R16: =IF(G16=(H16+I16),"◯","×") -> ◯
B17: 8 | D17: 日 | R17: =IF(G17=(H17+I17),"◯","×") -> ◯
B18: 9 | D18: 日 | R18: =IF(G18=(H18+I18),"◯","×") -> ◯
B19: 10 | D19: 日 | R19: =IF(G19=(H19+I19),"◯","×") -> ◯
B20: 11 | D20: 日 | R20: =IF(G20=(H20+I20),"◯","×") -> ◯
B21: 12 | D21: 日 | R21: =IF(G21=(H21+I21),"◯","×") -> ◯
... B40: 31 | D40: 日 | R40: =IF(G40=(H40+I40),"◯","×") -> ◯
B41: （注１）クロマグロの混獲の無い場合でも、操業・漁具の修繕等をおこなった場合には管理野帳を記載すること。
B42: （注２）対応方法の欄にはクロマグロの具体的な放流方法を明記すること。
B43: （注３）複数の漁業種類による場合、操業日ごとの漁法を明記すること。
B44: （注４）放流作業に掛かった人数を明記すること。
B45: （注５）放流目回りは、放流したクロマグロに応じた平均目回りを記載すること。
B46: （注６）クロマグロ混獲に伴う漁具の破損状況は、破網した範囲、損傷等した針数・釣糸の長さ等を具体的に記入すること。
B48: 操業 日数 | C48: =COUNTA(C10:C40) -> 0 | G48: =COUNTIF(G10:G40, ">0") -> 0 | H48: (うち混獲あり） | R48: 正誤
F49: 合計 | G49: =SUM(G10:G40) -> 0 | H49: =SUM(H10:H40) -> 0 | I49: =SUM(I10:I40) -> 0 | L49: 混獲 | M49: = 漁獲 | N49: ＋ | O49: 放流 | Q49: ➡ | R49: =IF(G49=(H49+I49),"◯","×") -> ◯
G50: 混獲 | H50: 漁獲 | I50: 放流
D51: 平均尾数 | G51: =$G$49/$G$48 -> #DIV/0! | I51: =$I$49/$G$48 -> #DIV/0! | O51: ※漁具修繕 | P51: =IF(COUNT(P10:P40)>0,"有","")
G52: 混獲 | I52: 放流
G53: （混獲の総尾数÷混獲があった日数） | I53: （放流した総尾数÷混獲があった日数）
